Workbook
Name MSPProv_01: 'Service List'!$J$2:$J$2
Name MSPProv_02: 'Service List'!$K$2:$K$10
Name MSPProv_03: 'Service List'!$L$2:$L$2
Name MSPProv_04: 'Service List'!$M$2:$M$12
Name MSPProv_05: 'Service List'!$N$2:$N$8
Name MSPProv_06: 'Service List'!$O$2:$O$3
Name MSPProv_07: 'Service List'!$P$2:$P$8
Name MSPProv_08: 'Service List'!$Q$2:$Q$2
Name MSPSvc_01: 'Service List'!$R$2:$R$4
Name MSPSvc_02: 'Service List'!$S$2:$S$2
Name MSPSvc_03: 'Service List'!$T$2:$T$3
Name MSPSvc_04: 'Service List'!$U$2:$U$8
Name MSPSvc_05: 'Service List'!$V$2:$V$4
Name MSPSvc_06: 'Service List'!$W$2:$W$2
Name MSPSvc_07: 'Service List'!$X$2:$X$2
Name MSPSvc_08: 'Service List'!$Y$2:$Y$5
Name MSPSvc_09: 'Service List'!$Z$2:$Z$9
Name MSPSvc_10: 'Service List'!$AA$2:$AA$3
Name MSPSvc_11: 'Service List'!$AB$2:$AB$3
Name MSPSvc_12: 'Service List'!$AC$2:$AC$2
Name MSPSvc_13: 'Service List'!$AD$2:$AD$13
Name MSPSvc_14: 'Service List'!$AE$2:$AE$2
Name MSPSvc_15: 'Service List'!$AF$2:$AF$3
Name MSPSvc_16: 'Service List'!$AG$2:$AG$3
Name MSPSvc_17: 'Service List'!$AH$2:$AH$3
Name MSPSvc_18: 'Service List'!$AI$2:$AI$2
Name MSPSvc_19: 'Service List'!$AJ$2:$AJ$4
Name MSPSvc_20: 'Service List'!$AK$2:$AK$19
Name MSPSvc_21: 'Service List'!$AL$2:$AL$2
Name MSPSvc_22: 'Service List'!$AM$2:$AM$2
Name MSPSvc_23: 'Service List'!$AN$2:$AN$3
Name MSPSvc_24: 'Service List'!$AO$2:$AO$5
Name MSPSvc_25: 'Service List'!$AP$2:$AP$3
Name MSPSvc_26: 'Service List'!$AQ$2:$AQ$2
Name MSPSvc_27: 'Service List'!$AR$2:$AR$7
Name MSPSvc_28: 'Service List'!$AS$2:$AS$3
Name MSPSvc_29: 'Service List'!$AT$2:$AT$9
Name MSPSvc_30: 'Service List'!$AU$2:$AU$4
Name MSPSvc_31: 'Service List'!$AV$2:$AV$3
Name MSPSvc_32: 'Service List'!$AW$2:$AW$2
Name MSPSvc_33: 'Service List'!$AX$2:$AX$3
Name MSPSvc_34: 'Service List'!$AY$2:$AY$3
Name MSPSvc_35: 'Service List'!$AZ$2:$AZ$39
Name MSPSvc_36: 'Service List'!$BA$2:$BA$26
Name MSPSvc_37: 'Service List'!$BB$2:$BB$5
Name MSPSvc_38: 'Service List'!$BC$2:$BC$5
Name MSPSvc_39: 'Service List'!$BI$2:$BI$4
Name Q3b_Selected_Options: _xlfn.ANCHORARRAY('Service List'!$BH$2)
Name ReportProviderOptions: _xlfn.ANCHORARRAY('Service List'!$H$2)
Name ReportServiceOptions: _xlfn.ANCHORARRAY('Service List'!$I$2)
Name ReportStateOptions: _xlfn.ANCHORARRAY('Service List'!$G$2)
Name ValidationProviderOptions: _xlfn.ANCHORARRAY('Validation Lists'!$B$2)
Name ValidationQ3bOptions: _xlfn.ANCHORARRAY('Validation Lists'!$D$2)
Name ValidationServiceOptions: _xlfn.ANCHORARRAY('Validation Lists'!$C$2)
Name ValidationStateOptions: _xlfn.ANCHORARRAY('Validation Lists'!$A$2)

Sheet Instructions
B1: MPSP Direct Care Targets Trial — Single-MPS Reporting Instructions
B2: Purpose of this workbook
B3: This workbook supports Single MPS reporting of the MPSP Direct Care Targets Trial. Complete the Single MPS Reporting Template and select the applicable reporting period from the dropdown on the form. Provider-input fields start blue. As you progress, the next required field turns red until completed; conditional sub-questions turn red only when they apply. A red field can also indicate an invalid entry. Estimates are acceptable where requested, and supporting documents do not need to be attached. To protect the integrity of the template, question headings, instructions, automated Service ID cells and completion-check formulas are locked. Reporters can enter or select responses in the unlocked cells only. Field labels identify how to respond: required fields must be completed; conditional fields are completed only when the stated condition applies; and automatic fields populate from earlier selections and must not be edited. Colour is a secondary guide only—always use the field labels and Completion check status text.
B4: How to complete the Single MPS Reporting Template
B5: Use the Single MPS Reporting Template when reporting for one service. Provider-input fields are blue. As information is entered, the next required field will turn red until it is completed. A red field can also indicate an invalid entry. Review the Completion check for details of any outstanding or invalid information. 1. Complete the report details in rows 5–14. Select the State, Provider Name, MPS Name and Reporting period from the available dropdown lists. The GPMS Service ID will populate automatically after the State, Provider Name and MPS Name have been selected; do not type or paste into this field. Enter the name, role title, email address and contact number of the staff member submitting the report, and enter the Date completed. All report-detail fields are mandatory. The Date completed must be 1 January 2027 or later; earlier dates will not be accepted. 2. For Q1, select Yes or No. Complete Q1a only when Q1 is No; the response must be numeric and in minutes. When Q1 is Yes, leave Q1a blank. 3. For Q2, select Yes or No. Complete Q2a only when Q2 is No; the response must be numeric and in minutes. When Q2 is Yes, leave Q2a blank. 4. For Q3, select Yes or No or Don't know for every information source. At least one information source must be marked Yes. 5. Complete Q3a only when Other business-as-usual information was selected Yes at Q3 above. Enter up to 1,000 characters. If Other business-as-usual information was selected as No or Don't know at Q3 above, leave Q3a blank. To paste multi-line text into one cell, press F2 or paste into the formula bar. 6. For Q3b, select the information type you prefer most. The Q3b dropdown will show only the information types marked Yes in Q3.
B6: 7. Q4 is mandatory. Enter up to 1,000 characters explaining your responses. Include relevant details such as local service arrangements, workforce constraints, mixed-service approaches, labour types, and the advantages, disadvantages or limitations of the information sources used. To paste multi-line text into one cell, press F2 or paste into the formula bar. 8. For Q5, enter the estimated total time spent completing this report as a numeric value only. Include time spent accessing relevant records, but exclude time spent completing the optional Calculator Tool. 9. For Q6, select Yes or No to indicate whether you intend to submit a completed optional Care Minutes Calculator Tool. 10. If Q6 is Yes, Q6a is mandatory. Tick the checkbox to confirm the completed Calculator Tool will be emailed to MPSAgedCare@health.gov.au. If Q6 is No, leave Q6a unticked. 11. If Q6 is Yes, Q6b is mandatory. Enter the estimated time taken to complete the Calculator Tool as a numeric value only. Include time spent accessing relevant records. If Q6 is No, leave Q6b blank. 12. Tick the Endorsement checkbox to confirm the signed PDF copy of the Endorsement document will be emailed to MPSAgedCare@health.gov.au. 13. Review the Completion check in rows 56 to 72. Red means Action required, amber means Pending or In progress, and green means Complete or Ready to submit. Resolve every outstanding item; Overall status must show Ready to submit.
B7: Additional information
B8: Use the following standard filename format: For Stage 1 reporting template: MPSP Stage 1 DCT Trial <Provider Name> Single-MPS Report.xlsx For Stage 2 reporting template: MPSP Stage 2 DCT Trial <Provider Name> Single-MPS Report.xlsx Note: Remove or replace special characters that are not permitted in filenames, including < and >. Copies of this Excel DCT reporting template, the Endorsement page and the Care Minutes Calculator Tool are available from the department’s webpage: https://www.health.gov.au/our-work/multi-purpose-services-mps-program/reforms Email the completed reporting template, PDF Endorsement and, where applicable, the completed Calculator Tool to MPSAgedCare@health.gov.au by the final reporting date for the relevant stage of the trial. For assistance with completing the report, email MPSAgedCare@health.gov.au.

Sheet Single MPS Reporting Template
B2: MPSP Direct Care Targets Trial — Single-MPS Report
B3: Blue cells are for user input.
B4: Report details
B5: State (required — dropdown)
B6: Provider Name (required — dropdown)
B7: MPS Name (required — dropdown)
B8: GPMS Service ID (automatic — do not edit) | C8: {=IF(OR($C$5="",$C$6="",$C$7=""),"",IFERROR(_xlfn.XLOOKUP(1,('Service List'!$A$2:$A$185=$C$5)*('Service List'!$B$2:$B$185=$C$6)*('Service List'!$C$2:$C$185=$C$7),'Service List'!$D$2:$D$185,""),""))}
B9: Reporting period (required — dropdown)
B10: Submitted by (required)
B11: Role title (required)
B12: Email address (required)
B13: Contact number (required)
B14: Date completed (required)
B16: Required report
B17: Q1 (required — dropdown) | C17: During this reporting period, did your MPS meet the applicable total direct care target per resident per day?
C18: Select Yes or No
B19: Q1a | C19: If the total direct care target was not met, approximately how many total care minutes per resident per day do you estimate were delivered? Estimate only. Note: This question is intended to provide context for trial learning. Precise calculations or supporting documentation are not required.
C20: Complete Q1a only if Q1 is No | F20: Numeric only / minutes
B21: Q2 (required — dropdown) | C21: During this reporting period, did your MPS meet the applicable RN care target per resident per day?
C22: Select Yes or No
B23: Q2a | C23: If the RN care target was not met, approximately how many RN care minutes per resident per day do you estimate were delivered? Estimate only. Note: This question is intended to provide context for trial learning. Precise calculations or supporting documentation are not required.
C24: Complete Q2a only if Q2 is No | F24: Numeric only / minutes
B26: Q3 (required — dropdown) | C26: What type(s) of information did your MPS rely on to support the reporting above? Select Yes, No or Don't know for each information source. Formal evidence is not required to be submitted with the report.
C27: Rosters or staffing allocations
C28: Payroll or pay records
C29: Timesheets or staff time allocation records
C30: Workforce, rostering or clinical systems
C31: Aggregated summaries supported by routine records
C32: Time-in-motion or structured sampling study
C33: Other business-as-usual information
B35: Q3a | C35: Describe the “Other business-as-usual information”. Enter a response only when 'Other business as usual' is yes in Q3; otherwise skip this field. Free text response. Maximum 1,000 characters. To paste multi-line text into one cell, press F2 or paste into the formula bar.
B37: Q3b (required — dropdown) | C37: Of the information types selected at Q3, which do you prefer most? Please select the most preferred or most relied on type of information.
B40: Q4 (required) | C40: Please provide any additional information to help explain your responses. Please include information that is relevant to meeting or not meeting the direct care targets and the factors that contributed, for example, pros/cons of preferred information types or local service arrangements, workforce constraints, mixed-service approaches or the labour types that comprise the reported outcomes. A response is required. Free text response. Maximum 1,000 characters. To paste multi-line text into one cell, press F2 or paste into the formula bar.
B43: Q5 (required) | C43: Enter the estimated total time to complete this report. The time taken to complete this report includes the time taken to access the information or records indicating the amount of direct care minutes and whether the targets were met. Do not include the time taken to complete the optional Care Minutes Calculator Tool (see Q6b).
C44: Total completion time | F44: Numeric only / minutes
B45: Q6 (required — dropdown) | C45: Do you intend to submit a completed optional Calculator Tool?
C46: Select Yes or No
B47: Q6a | C47: If Q6 is Yes, tick the box to confirm the completed Calculator Tool will be emailed to MPSAgedCare@health.gov.au. Then enter the completion time in Q6b. If Q6 is No, leave Q6a unticked and Q6b blank.
C48: Tick the box to confirm | E48: FALSE
B49: Q6b | C49: Enter the estimated total time to complete the Calculator Tool. Complete Q6b only when Q6 is Yes.
...

Sheet Service List
A1: State | B1: Provider | C1: MPS Name | D1: GPMS Service ID | E1: 1 | G1: Report State Options | H1: Report Provider Options | I1: Report Service Options | J1: NFI Providers | K1: NSW Providers | L1: NT Providers | M1: QLD Providers | N1: SA Providers | O1: TAS Providers | P1: VIC Providers | Q1: WA Providers | R1: Services 1 | S1: Services 2 | T1: Services 3 | U1: Services 4 | V1: Services 5 | W1: Services 6 | X1: Services 7 | Y1: Services 8 | Z1: Services 9 | AA1: Services 10 | AB1: Services 11 | AC1: Services 12 | AD1: Services 13 | AE1: Services 14 | AF1: Services 15 | AG1: Services 16 | AH1: Services 17 | AI1: Services 18 | AJ1: Services 19 | AK1: Services 20 | AL1: Services 21 | AM1: Services 22 | AN1: Services 23 | AO1: Services 24 | AP1: Services 25 | AQ1: Services 26 | AR1: Services 27 | AS1: Services 28 | AT1: Services 29 | AU1: Services 30 | AV1: Services 31 | AW1: Services 32 | AX1: Services 33 | AY1: Services 34 | AZ1: Services 35 | BA1: Services 36 | BB1: Services 37 | BC1: Services 38 | BD1: State | BE1: Provider Range | BF1: Provider | BG1: Service Range | BH1: Q3b Selected Options | BI1: Services 39 - Demo
A2: NFI | B2: Norfolk Island Health and Residential Aged Care Service | C2: Norfolk Island Multi-Purpose Service | D2: {=IFERROR(_xlfn.XLOOKUP(B2&"|"&C2,'Service ID'!$B$2:$B$185&"|"&'Service ID'!$C$2:$C$185,'Service ID'!$D$2:$D$185,""),"")} -> SRV-25958 | E2: 2 | G2: {=_xlfn._xlws.SORT(_xlfn.UNIQUE(_xlfn._xlws.FILTER($A$2:$A$185,$A$2:$A$185<>"","")))} -> NFI | H2: {=IF('Single MPS Reporting Template'!$C$5="","",_xlfn._xlws.SORT(_xlfn.UNIQUE(_xlfn._xlws.FILTER($B$2:$B$185,$A$2:$A$185='Single MPS Reporting Template'!$C$5,""))))} | I2: {=IF('Single MPS Reporting Template'!$C$5="","",_xlfn._xlws.SORT(_xlfn.UNIQUE(_xlfn._xlws.FILTER($C$2:$C$185,($A$2:$A$185='Single MPS Reporting Template'!$C$5)*IF('Single MPS Reporting Template'!$C$6="",1,$B$2:$B$185='Single MPS Reporting Template'!$C$6),""))))} | J2: Norfolk Island Health and Residential Aged Care Service | K2: Far West Local Health District | L2: Northern Territory Department of Health | M2: Cairns and Hinterland Hospital and Health Service | N2: Barossa Hills Fleurieu Local Health Network Incorporated | O2: Huon Eldercare Limited | P2: Alpine Health | Q2: WA Country Health Service | R2: Bright Multi-Purpose Service | S2: Kangaroo Island Multi-Purpose Service | T2: Babinda Multi-Purpose Service | U2: Baralaba Multi-Purpose Service | V2: Alpha Multi-Purpose Service | W2: Blackall Multi-Purpose Service | X2: Corryong Multi-Purpose Service | Y2: Inglewood Multi-Purpose Service | Z2: Ceduna Multi-Purpose Service | AA2: Balranald Multi-Purpose Service | AB2: Hawker Multi-Purpose Service | AC2: Apollo Bay Multi-Purpose Service | AD2: Barraba Multi-Purpose Service | AE2: Tasman Multi-Purpose Service | AF2: Kingston SE/Robe Multi-Purpose Service | AG2: Clermont Multi-Purpose Service | AH2: Ouyen Multi-Purpose Service | AI2: Dorrigo Multi-Purpose Service | AJ2: Elliston Multi-Purpose Service | AK2: Batlow Multi-Purpose Service | AL2: Portland Multi-Purpose Service | AM2: Norfolk Island Multi-Purpose Service | AN2: Cloncurry Multi-Purpose Service | AO2: Bonalbo Multi-Purpose Service | AP2: Gove Multi-Purpose Service | AQ2: Orbost Multi-Purpose Service | AR2: Karoonda Multi-Purpose Service | AS2: Manangatang Multi-Purpose Service | AT2: Augathella Multi-Purpose Service | AU2: Bombala Multi-Purpose Service | AV2: Beaconsfield Multi-Purpose Service | AW2: Timboon Multi-Purpose Service | AX2: Cooktown Multi-Purpose Service | AY2: Hughenden Multi-Purpose Service | AZ2: Augusta Multi-Purpose Service | BA2: Baradine Multi-Purpose Service | BB2: Biggenden Multi-Purpose Service | BC2: Burra Multi-Purpose Service | BD2: NFI | BE2: MSPProv_01 | BF2: Alpine Health | BG2: MSPSvc_01 | BH2: {=_xlfn._xlws.FILTER('Single MPS Reporting Template'!$C$27:$C$33,'Single MPS Reporting Template'!$F$27:$F$33="Yes","")} | BI2: MPS A
A3: NSW | B3: Far West Local Health District | C3: Balranald Multi-Purpose Service | D3: {=IFERROR(_xlfn.XLOOKUP(B3&"|"&C3,'Service ID'!$B$2:$B$185&"|"&'Service ID'!$C$2:$C$185,'Service ID'!$D$2:$D$185,""),"")} -> SRV-7195 | E3: 3 | G3: NSW | K3: Hunter New England Local Health District | M3: Central Queensland Hospital and Health Service | N3: Eyre and Far North Local Health Network Incorporated | O3: Tasmanian Health Service | P3: Corryong Health | R3: Mount Beauty Multi-Purpose Service | T3: Mossman Multi-Purpose Service | U3: Blackwater Multi-Purpose Service | V3: Barcaldine Multi-Purpose Service | Y3: Jandowae Multi-Purpose Service | Z3: Cleve Multi-Purpose Service | AA3: Wilcannia Multi-Purpose Service | AB3: Quorn Multi-Purpose Service | AD3: Bingara Multi-Purpose Service | AF3: Penola Multi-Purpose Service | AG3: Collinsville Multi-Purpose Service | AH3: Sea Lake Multi-Purpose Service | AJ3: Streaky Bay Multi-Purpose Service | AK3: Berrigan Multi-Purpose Service | AN3: Julia Creek Multi-Purpose Service | AO3: Kyogle Multi-Purpose Service | AP3: Tennant Creek Multi-Purpose Service | AR3: Lameroo Multi-Purpose Service | AS3: Robinvale Multi-Purpose Service | AT3: Cunnamulla Multi-Purpose Service | AU3: Braidwood Multi-Purpose Service | AV3: Campbell Town Multi-Purpose Service | AX3: Weipa Multi-Purpose Service | AY3: Richmond Multi-Purpose Service | AZ3: Beverley Multi-Purpose Service | BA3: Blayney Multi-Purpose Service | BB3: Childers Multi-Purpose Service | BC3: Crystal Brook Multi-Purpose Service | BD3: NSW | BE3: MSPProv_02 | BF3: Barossa Hills Fleurieu Local Health Network Incorporated | BG3: MSPSvc_02 | BI3: MPS B
A4: NSW | B4: Far West Local Health District | C4: Wilcannia Multi-Purpose Service | D4: {=IFERROR(_xlfn.XLOOKUP(B4&"|"&C4,'Service ID'!$B$2:$B$185&"|"&'Service ID'!$C$2:$C$185,'Service ID'!$D$2:$D$185,""),"")} -> SRV-7610 | E4: 4 | G4: NT | K4: Mid North Coast Local Health District | M4: Central West Hospital and Health Service | N4: Flinders and Upper North Local Health Network Incorporated | P4: Great Ocean Road Health | R4: Myrtleford Multi-Purpose Service | U4: Mount Morgan Multi-Purpose Service | V4: Winton Multi-Purpose Service | Y4: Millmerran Multi-Purpose Service | Z4: Coober Pedy Multi-Purpose Service | AD4: Boggabri Multi-Purpose Service | AJ4: Wudinna Multi-Purpose Service | AK4: Boorowa Multi-Purpose Service | AO4: Nimbin Multi-Purpose Service | AR4: Meningie Multi-Purpose Service | AT4: Dirranbandi Multi-Purpose Service | AU4: Delegate Multi-Purpose Service | AZ4: Boyup Brook Multi-Purpose Service | BA4: Bourke Multi-Purpose Service | BB4: Eidsvold Multi-Purpose Service | BC4: Laura Multi-Purpose Service | BD4: NT | BE4: MSPProv_03 | BF4: Cairns and Hinterland Hospital and Health Service | BG4: MSPSvc_03 | BI4: MPS C
A5: NSW | B5: Hunter New England Local Health District | C5: Barraba Multi-Purpose Service | D5: {=IFERROR(_xlfn.XLOOKUP(B5&"|"&C5,'Service ID'!$B$2:$B$185&"|"&'Service ID'!$C$2:$C$185,'Service ID'!$D$2:$D$185,""),"")} -> SRV-5437 | E5: Not Relied on | G5: QLD | K5: Murrumbidgee Local Health District | M5: Churches of Christ in Queensland | N5: Limestone Coast Local Health Network Incorporated | P5: Mallee Track Health and Community Service | U5: Moura Multi-Purpose Service | Y5: Texas Multi-Purpose Service | Z5: Cowell Multi-Purpose Service | AD5: Denman Multi-Purpose Service | AK5: Coolamon Multi-Purpose Service | AO5: Urbenville Multi-Purpose Service | AR5: Pinnaroo Multi-Purpose Service | AT5: Injune Multi-Purpose Service | AZ5: Bruce Rock Multi-Purpose Service | BA5: Brewarrina Multi-Purpose Service | BB5: Mundubbera Multi-Purpose Service | BC5: Snowtown Multi-Purpose Service | BD5: QLD | BE5: MSPProv_04 | BF5: Central Queensland Hospital and Health Service | BG5: MSPSvc_04
A6: NSW | B6: Hunter New England Local Health District | C6: Bingara Multi-Purpose Service | D6: {=IFERROR(_xlfn.XLOOKUP(B6&"|"&C6,'Service ID'!$B$2:$B$185&"|"&'Service ID'!$C$2:$C$185,'Service ID'!$D$2:$D$185,""),"")} -> SRV-5821 | G6: SA | K6: Nepean Blue Mountains Local Health District | M6: Darling Downs Hospital and Health Service | N6: Mid-West Health & Aged Care Inc | P6: Orbost Regional Health | U6: Springsure Multi-Purpose Service | Z6: Cummins Multi-Purpose Service | AD6: Emmaville Multi-Purpose Service | AK6: Culcairn Multi-Purpose Service | AR6: Tailem Bend Multi-Purpose Service | AT6: Mitchell Multi-Purpose Service | AZ6: Carnarvon Multi-Purpose Service | BA6: Collarenebri Multi-Purpose Service | BD6: SA | BE6: MSPProv_05 | BF6: Central West Hospital and Health Service | BG6: MSPSvc_05
A7: NSW | B7: Hunter New England Local Health District | C7: Boggabri Multi-Purpose Service | D7: {=IFERROR(_xlfn.XLOOKUP(B7&"|"&C7,'Service ID'!$B$2:$B$185&"|"&'Service ID'!$C$2:$C$185,'Service ID'!$D$2:$D$185,""),"")} -> SRV-5607 | G7: TAS | K7: Northern NSW Local Health District | M7: Mackay Hospital and Health Service | N7: Riverland Mallee Coorong Local Health Network Incorporated | P7: Robinvale District Health Services | U7: Theodore Multi-Purpose Service | Z7: Kimba Multi-Purpose Service | AD7: Guyra Multi-Purpose Service | AK7: Gundagai Multi-Purpose Service | AR7: Waikerie Multi-Purpose Service | AT7: Mungindi Multi-Purpose Service | AZ7: Corrigin Multi-Purpose Service | BA7: Coolah Multi-Purpose Service | BD7: TAS | BE7: MSPProv_06 | BF7: Churches of Christ in Queensland | BG7: MSPSvc_06
A8: NSW | B8: Hunter New England Local Health District | C8: Denman Multi-Purpose Service | D8: {=IFERROR(_xlfn.XLOOKUP(B8&"|"&C8,'Service ID'!$B$2:$B$185&"|"&'Service ID'!$C$2:$C$185,'Service ID'!$D$2:$D$185,""),"")} -> SRV-5446 | G8: VIC | K8: Southern NSW Local Health District | M8: North West Hospital and Health Service | N8: Yorke and Northern Local Health Network Incorporated | P8: Timboon & District Health Care Service | U8: Woorabinda Multi-Purpose Service | Z8: Oak Valley Multi-Purpose Service | AD8: Manilla Multi-Purpose Service | AK8: Harden Multi-Purpose Service | AT8: Quilpie Multi-Purpose Service | AZ8: Dalwallinu Multi-Purpose Service | BA8: Coonamble Multi-Purpose Service | BD8: VIC | BE8: MSPProv_07 | BF8: Corryong Health | BG8: MSPSvc_07
A9: NSW | B9: Hunter New England Local Health District | C9: Emmaville Multi-Purpose Service | D9: {=IFERROR(_xlfn.XLOOKUP(B9&"|"&C9,'Service ID'!$B$2:$B$185&"|"&'Service ID'!$C$2:$C$185,'Service ID'!$D$2:$D$185,""),"")} -> SRV-5634 | G9: WA | K9: Western NSW Local Health District | M9: South West Hospital and Health Service | Z9: Tumby Bay Multi-Purpose Service | AD9: Merriwa Multi-Purpose Service | AK9: Hay Multi-Purpose Service | AT9: Surat Multi-Purpose Service | AZ9: Denmark Multi-Purpose Service | BA9: Dunedoo Multi-Purpose Service | BD9: WA | BE9: MSPProv_08 | BF9: Darling Downs Hospital and Health Service | BG9: MSPSvc_08
A10: NSW | B10: Hunter New England Local Health District | C10: Guyra Multi-Purpose Service | D10: {=IFERROR(_xlfn.XLOOKUP(B10&"|"&C10,'Service ID'!$B$2:$B$185&"|"&'Service ID'!$C$2:$C$185,'Service ID'!$D$2:$D$185,""),"")} -> SRV-5818 | K10: Provider XYZ | M10: Torres and Cape Hospital and Health Service | AD10: Tingha Multi-Purpose Service | AK10: Henty Multi-Purpose Service | AZ10: Dongara/Mingenew/Eneabba Multi-Purpose Service | BA10: Eugowra Multi-Purpose Service | BF10: Eyre and Far North Local Health Network Incorporated | BG10: MSPSvc_09
A11: NSW | B11: Hunter New England Local Health District | C11: Manilla Multi-Purpose Service | D11: {=IFERROR(_xlfn.XLOOKUP(B11&"|"&C11,'Service ID'!$B$2:$B$185&"|"&'Service ID'!$C$2:$C$185,'Service ID'!$D$2:$D$185,""),"")} -> SRV-7577 | M11: Townsville Hospital and Health Service | AD11: Walcha Multi-Purpose Service | AK11: Hillston Multi-Purpose Service | AZ11: Dumbleyung/Kukerin Multi-Purpose Service | BA11: Gilgandra Multi-Purpose Service | BF11: Far West Local Health District | BG11: MSPSvc_10
A12: NSW | B12: Hunter New England Local Health District | C12: Merriwa Multi-Purpose Service | D12: {=IFERROR(_xlfn.XLOOKUP(B12&"|"&C12,'Service ID'!$B$2:$B$185&"|"&'Service ID'!$C$2:$C$185,'Service ID'!$D$2:$D$185,""),"")} -> SRV-5816 | M12: Wide Bay Hospital and Health Service | AD12: Warialda Multi-Purpose Service | AK12: Holbrook Multi-Purpose Service | AZ12: Exmouth Multi-Purpose Service | BA12: Grenfell Multi-Purpose Service | BF12: Flinders and Upper North Local Health Network Incorporated | BG12: MSPSvc_11
A13: NSW | B13: Hunter New England Local Health District | C13: Tingha Multi-Purpose Service | D13: {=IFERROR(_xlfn.XLOOKUP(B13&"|"&C13,'Service ID'!$B$2:$B$185&"|"&'Service ID'!$C$2:$C$185,'Service ID'!$D$2:$D$185,""),"")} -> SRV-5825 | AD13: Werris Creek Multi-Purpose Service | AK13: Jerilderie Multi-Purpose Service | AZ13: Gnowangerup Multi-Purpose Service | BA13: Gulargambone Multi-Purpose Service | BF13: Great Ocean Road Health | BG13: MSPSvc_12
A14: NSW | B14: Hunter New England Local Health District | C14: Walcha Multi-Purpose Service | D14: {=IFERROR(_xlfn.XLOOKUP(B14&"|"&C14,'Service ID'!$B$2:$B$185&"|"&'Service ID'!$C$2:$C$185,'Service ID'!$D$2:$D$185,""),"")} -> SRV-5822 | AK14: Junee Multi-Purpose Service | AZ14: Goomalling Multi-Purpose Service | BA14: Gulgong Multi-Purpose Service | BF14: Hunter New England Local Health District | BG14: MSPSvc_13
A15: NSW | B15: Hunter New England Local Health District | C15: Warialda Multi-Purpose Service | D15: {=IFERROR(_xlfn.XLOOKUP(B15&"|"&C15,'Service ID'!$B$2:$B$185&"|"&'Service ID'!$C$2:$C$185,'Service ID'!$D$2:$D$185,""),"")} -> SRV-5823 | AK15: Lake Cargelligo Multi-Purpose Service | AZ15: Katanning Multi-Purpose Service | BA15: Lightning Ridge Multi-Purpose Service | BF15: Huon Eldercare Limited | BG15: MSPSvc_14
A16: NSW | B16: Hunter New England Local Health District | C16: Werris Creek Multi-Purpose Service | D16: {=IFERROR(_xlfn.XLOOKUP(B16&"|"&C16,'Service ID'!$B$2:$B$185&"|"&'Service ID'!$C$2:$C$185,'Service ID'!$D$2:$D$185,""),"")} -> SRV-7597 | AK16: Lockhart Multi-Purpose Service | AZ16: Kellerberrin Multi-Purpose Service | BA16: Molong Multi-Purpose Service | BF16: Limestone Coast Local Health Network Incorporated | BG16: MSPSvc_15
A17: NSW | B17: Mid North Coast Local Health District | C17: Dorrigo Multi-Purpose Service | D17: {=IFERROR(_xlfn.XLOOKUP(B17&"|"&C17,'Service ID'!$B$2:$B$185&"|"&'Service ID'!$C$2:$C$185,'Service ID'!$D$2:$D$185,""),"")} -> SRV-16 | AK17: Tocumwal Multi-Purpose Service | AZ17: Kojonup Multi-Purpose Service | BA17: Nyngan Multi-Purpose Service | BF17: Mackay Hospital and Health Service | BG17: MSPSvc_16
A18: NSW | B18: Murrumbidgee Local Health District | C18: Batlow Multi-Purpose Service | D18: {=IFERROR(_xlfn.XLOOKUP(B18&"|"&C18,'Service ID'!$B$2:$B$185&"|"&'Service ID'!$C$2:$C$185,'Service ID'!$D$2:$D$185,""),"")} -> SRV-5815 | AK18: Tumbarumba Multi-Purpose Service | AZ18: Kondinin/Kulin Multi-Purpose Service | BA18: Oberon Multi-Purpose Service | BF18: Mallee Track Health and Community Service | BG18: MSPSvc_17
A19: NSW | B19: Murrumbidgee Local Health District | C19: Berrigan Multi-Purpose Service | D19: {=IFERROR(_xlfn.XLOOKUP(B19&"|"&C19,'Service ID'!$B$2:$B$185&"|"&'Service ID'!$C$2:$C$185,'Service ID'!$D$2:$D$185,""),"")} -> SRV-5817 | AK19: Urana Multi-Purpose Service | AZ19: Kununoppin Multi-Purpose Service | BA19: Peak Hill Multi-Purpose Service | BF19: Mid North Coast Local Health District | BG19: MSPSvc_18
A20: NSW | B20: Murrumbidgee Local Health District | C20: Boorowa Multi-Purpose Service | D20: {=IFERROR(_xlfn.XLOOKUP(B20&"|"&C20,'Service ID'!$B$2:$B$185&"|"&'Service ID'!$C$2:$C$185,'Service ID'!$D$2:$D$185,""),"")} -> SRV-6863 | AZ20: Lake Grace Multi-Purpose Service | BA20: Rylstone Multi-Purpose Service | BF20: Mid-West Health & Aged Care Inc | BG20: MSPSvc_19
A21: NSW | B21: Murrumbidgee Local Health District | C21: Coolamon Multi-Purpose Service | D21: {=IFERROR(_xlfn.XLOOKUP(B21&"|"&C21,'Service ID'!$B$2:$B$185&"|"&'Service ID'!$C$2:$C$185,'Service ID'!$D$2:$D$185,""),"")} -> SRV-5610 | AZ21: Laverton Multi-Purpose Service | BA21: Tottenham Multi-Purpose Service | BF21: Murrumbidgee Local Health District | BG21: MSPSvc_20
A22: NSW | B22: Murrumbidgee Local Health District | C22: Culcairn Multi-Purpose Service | D22: {=IFERROR(_xlfn.XLOOKUP(B22&"|"&C22,'Service ID'!$B$2:$B$185&"|"&'Service ID'!$C$2:$C$185,'Service ID'!$D$2:$D$185,""),"")} -> SRV-26 | AZ22: Leonora Multi-Purpose Service | BA22: Trangie Multi-Purpose Service | BF22: Nepean Blue Mountains Local Health District | BG22: MSPSvc_21
A23: NSW | B23: Murrumbidgee Local Health District | C23: Gundagai Multi-Purpose Service | D23: {=IFERROR(_xlfn.XLOOKUP(B23&"|"&C23,'Service ID'!$B$2:$B$185&"|"&'Service ID'!$C$2:$C$185,'Service ID'!$D$2:$D$185,""),"")} -> SRV-7602 | AZ23: Meekatharra Multi-Purpose Service | BA23: Trundle Multi-Purpose Service | BF23: Norfolk Island Health and Residential Aged Care Service | BG23: MSPSvc_22
A24: NSW | B24: Murrumbidgee Local Health District | C24: Harden Multi-Purpose Service | D24: {=IFERROR(_xlfn.XLOOKUP(B24&"|"&C24,'Service ID'!$B$2:$B$185&"|"&'Service ID'!$C$2:$C$185,'Service ID'!$D$2:$D$185,""),"")} -> SRV-28288 | AZ24: Merredin Multi-Purpose Service | BA24: Tullamore Multi-Purpose Service | BF24: North West Hospital and Health Service | BG24: MSPSvc_23
A25: NSW | B25: Murrumbidgee Local Health District | C25: Hay Multi-Purpose Service | D25: {=IFERROR(_xlfn.XLOOKUP(B25&"|"&C25,'Service ID'!$B$2:$B$185&"|"&'Service ID'!$C$2:$C$185,'Service ID'!$D$2:$D$185,""),"")} -> SRV-28945 | AZ25: Moora/Dandaragan Multi-Purpose Service | BA25: Walgett Multi-Purpose Service | BF25: Northern NSW Local Health District | BG25: MSPSvc_24
A26: NSW | B26: Murrumbidgee Local Health District | C26: Henty Multi-Purpose Service | D26: {=IFERROR(_xlfn.XLOOKUP(B26&"|"&C26,'Service ID'!$B$2:$B$185&"|"&'Service ID'!$C$2:$C$185,'Service ID'!$D$2:$D$185,""),"")} -> SRV-5710 | AZ26: Morawa/Perenjori Multi-Purpose Service | BA26: Warren Multi-Purpose Service | BF26: Northern Territory Department of Health | BG26: MSPSvc_25
A27: NSW | B27: Murrumbidgee Local Health District | C27: Hillston Multi-Purpose Service | D27: {=IFERROR(_xlfn.XLOOKUP(B27&"|"&C27,'Service ID'!$B$2:$B$185&"|"&'Service ID'!$C$2:$C$185,'Service ID'!$D$2:$D$185,""),"")} -> SRV-8077 | AZ27: Mount Barker Multi-Purpose Service | BF27: Orbost Regional Health | BG27: MSPSvc_26
A28: NSW | B28: Murrumbidgee Local Health District | C28: Holbrook Multi-Purpose Service | D28: {=IFERROR(_xlfn.XLOOKUP(B28&"|"&C28,'Service ID'!$B$2:$B$185&"|"&'Service ID'!$C$2:$C$185,'Service ID'!$D$2:$D$185,""),"")} -> SRV-28287 | AZ28: Nannup Multi-Purpose Service | BF28: Riverland Mallee Coorong Local Health Network Incorporated | BG28: MSPSvc_27
A29: NSW | B29: Murrumbidgee Local Health District | C29: Jerilderie Multi-Purpose Service | D29: {=IFERROR(_xlfn.XLOOKUP(B29&"|"&C29,'Service ID'!$B$2:$B$185&"|"&'Service ID'!$C$2:$C$185,'Service ID'!$D$2:$D$185,""),"")} -> SRV-5614 | AZ29: Narembeen Multi-Purpose Service | BF29: Robinvale District Health Services | BG29: MSPSvc_28
A30: NSW | B30: Murrumbidgee Local Health District | C30: Junee Multi-Purpose Service | D30: {=IFERROR(_xlfn.XLOOKUP(B30&"|"&C30,'Service ID'!$B$2:$B$185&"|"&'Service ID'!$C$2:$C$185,'Service ID'!$D$2:$D$185,""),"")} -> SRV-5820 | AZ30: Norseman Multi-Purpose Service | BF30: South West Hospital and Health Service | BG30: MSPSvc_29
A31: NSW | B31: Murrumbidgee Local Health District | C31: Lake Cargelligo Multi-Purpose Service | D31: {=IFERROR(_xlfn.XLOOKUP(B31&"|"&C31,'Service ID'!$B$2:$B$185&"|"&'Service ID'!$C$2:$C$185,'Service ID'!$D$2:$D$185,""),"")} -> SRV-5616 | AZ31: Northampton/Kalbarri Multi-Purpose Service | BF31: Southern NSW Local Health District | BG31: MSPSvc_30
A32: NSW | B32: Murrumbidgee Local Health District | C32: Lockhart Multi-Purpose Service | D32: {=IFERROR(_xlfn.XLOOKUP(B32&"|"&C32,'Service ID'!$B$2:$B$185&"|"&'Service ID'!$C$2:$C$185,'Service ID'!$D$2:$D$185,""),"")} -> SRV-7601 | AZ32: Pemberton Multi-Purpose Service | BF32: Tasmanian Health Service | BG32: MSPSvc_31
A33: NSW | B33: Murrumbidgee Local Health District | C33: Tocumwal Multi-Purpose Service | D33: {=IFERROR(_xlfn.XLOOKUP(B33&"|"&C33,'Service ID'!$B$2:$B$185&"|"&'Service ID'!$C$2:$C$185,'Service ID'!$D$2:$D$185,""),"")} -> SRV-23639 | AZ33: Quairading Multi-Purpose Service | BF33: Timboon & District Health Care Service | BG33: MSPSvc_32
A34: NSW | B34: Murrumbidgee Local Health District | C34: Tumbarumba Multi-Purpose Service | D34: {=IFERROR(_xlfn.XLOOKUP(B34&"|"&C34,'Service ID'!$B$2:$B$185&"|"&'Service ID'!$C$2:$C$185,'Service ID'!$D$2:$D$185,""),"")} -> SRV-22 | AZ34: Ravensthorpe Multi-Purpose Service | BF34: Torres and Cape Hospital and Health Service | BG34: MSPSvc_33
A35: NSW | B35: Murrumbidgee Local Health District | C35: Urana Multi-Purpose Service | D35: {=IFERROR(_xlfn.XLOOKUP(B35&"|"&C35,'Service ID'!$B$2:$B$185&"|"&'Service ID'!$C$2:$C$185,'Service ID'!$D$2:$D$185,""),"")} -> SRV-6 | AZ35: Southern Cross Multi-Purpose Service | BF35: Townsville Hospital and Health Service | BG35: MSPSvc_34
A36: NSW | B36: Nepean Blue Mountains Local Health District | C36: Portland Multi-Purpose Service | D36: {=IFERROR(_xlfn.XLOOKUP(B36&"|"&C36,'Service ID'!$B$2:$B$185&"|"&'Service ID'!$C$2:$C$185,'Service ID'!$D$2:$D$185,""),"")} -> SRV-28946 | AZ36: Three Springs Multi-Purpose Service | BF36: WA Country Health Service | BG36: MSPSvc_35
A37: NSW | B37: Northern NSW Local Health District | C37: Bonalbo Multi-Purpose Service | D37: {=IFERROR(_xlfn.XLOOKUP(B37&"|"&C37,'Service ID'!$B$2:$B$185&"|"&'Service ID'!$C$2:$C$185,'Service ID'!$D$2:$D$185,""),"")} -> SRV-26981 | AZ37: Wongan Hills Multi-Purpose Service | BF37: Western NSW Local Health District | BG37: MSPSvc_36
A38: NSW | B38: Northern NSW Local Health District | C38: Kyogle Multi-Purpose Service | D38: {=IFERROR(_xlfn.XLOOKUP(B38&"|"&C38,'Service ID'!$B$2:$B$185&"|"&'Service ID'!$C$2:$C$185,'Service ID'!$D$2:$D$185,""),"")} -> SRV-5615 | AZ38: Wyalkatchem Multi-Purpose Service | BF38: Wide Bay Hospital and Health Service | BG38: MSPSvc_37
A39: NSW | B39: Northern NSW Local Health District | C39: Nimbin Multi-Purpose Service | D39: {=IFERROR(_xlfn.XLOOKUP(B39&"|"&C39,'Service ID'!$B$2:$B$185&"|"&'Service ID'!$C$2:$C$185,'Service ID'!$D$2:$D$185,""),"")} -> SRV-5698 | AZ39: York Multi-Purpose Service | BF39: Yorke and Northern Local Health Network Incorporated | BG39: MSPSvc_38
A40: NSW | B40: Northern NSW Local Health District | C40: Urbenville Multi-Purpose Service | D40: {=IFERROR(_xlfn.XLOOKUP(B40&"|"&C40,'Service ID'!$B$2:$B$185&"|"&'Service ID'!$C$2:$C$185,'Service ID'!$D$2:$D$185,""),"")} -> SRV-14 | BF40: Provider XYZ | BG40: MSPSvc_39
...

Sheet Service ID
A1: State | B1: Provider | C1: MPS Name | D1: GPMS_Service_ID
A2: NFI | B2: Norfolk Island Health and Residential Aged Care Service | C2: Norfolk Island Multi-Purpose Service | D2: SRV-25958
A3: NSW | B3: Far West Local Health District | C3: Balranald Multi-Purpose Service | D3: SRV-7195
A4: NSW | B4: Far West Local Health District | C4: Wilcannia Multi-Purpose Service | D4: SRV-7610
A5: NSW | B5: Hunter New England Local Health District | C5: Barraba Multi-Purpose Service | D5: SRV-5437
A6: NSW | B6: Hunter New England Local Health District | C6: Bingara Multi-Purpose Service | D6: SRV-5821
A7: NSW | B7: Hunter New England Local Health District | C7: Boggabri Multi-Purpose Service | D7: SRV-5607
A8: NSW | B8: Hunter New England Local Health District | C8: Denman Multi-Purpose Service | D8: SRV-5446
A9: NSW | B9: Hunter New England Local Health District | C9: Emmaville Multi-Purpose Service | D9: SRV-5634
A10: NSW | B10: Hunter New England Local Health District | C10: Guyra Multi-Purpose Service | D10: SRV-5818
A11: NSW | B11: Hunter New England Local Health District | C11: Manilla Multi-Purpose Service | D11: SRV-7577
A12: NSW | B12: Hunter New England Local Health District | C12: Merriwa Multi-Purpose Service | D12: SRV-5816
... A185: WA | B185: WA Country Health Service | C185: York Multi-Purpose Service | D185: SRV-5675

Sheet Validation Lists
A1: Demo State Options | B1: Demo Provider Options | C1: Demo Service Options | D1: Demo Q3b Options
A2: {=_xlfn._xlws.SORT(_xlfn.UNIQUE(_xlfn._xlws.FILTER('Service List'!$A$2:$A$185,'Service List'!$A$2:$A$185<>"","")))} -> NFI | B2: {=IF('Single MPS Reporting Template'!$C$5="","",_xlfn._xlws.SORT(_xlfn.UNIQUE(_xlfn._xlws.FILTER('Service List'!$B$2:$B$185,'Service List'!$A$2:$A$185='Single MPS Reporting Template'!$C$5,""))))} | C2: {=IF('Single MPS Reporting Template'!$C$5="","",_xlfn._xlws.SORT(_xlfn.UNIQUE(_xlfn._xlws.FILTER('Service List'!$C$2:$C$185,('Service List'!$A$2:$A$185='Single MPS Reporting Template'!$C$5)*IF('Single MPS Reporting Template'!$C$6="",1,'Service List'!$B$2:$B$185='Single MPS Reporting Template'!$C$6),""))))} | D2: {=_xlfn._xlws.FILTER('Single MPS Reporting Template'!$C$27:$C$33,'Single MPS Reporting Template'!$F$27:$F$33="Yes","")}
A3: NSW
A4: NT
A5: QLD
A6: SA
A7: TAS
A8: VIC
A9: WA
