Workbook
Name MSPProv_01: 'Service List'!$J$2:$J$2
Name MSPProv_02: 'Service List'!$K$2:$K$9
Name MSPProv_03: 'Service List'!$L$2:$L$2
Name MSPProv_04: 'Service List'!$M$2:$M$12
Name MSPProv_05: 'Service List'!$N$2:$N$8
Name MSPProv_06: 'Service List'!$O$2:$O$3
Name MSPProv_07: 'Service List'!$P$2:$P$8
Name MSPProv_08: 'Service List'!$Q$2:$Q$2
Name MSPSvc_01: 'Service List'!$R$2:$R$4
Name MSPSvc_02: 'Service List'!$S$2:$S$2
Name MSPSvc_03: 'Service List'!$T$2:$T$3
Name MSPSvc_04: 'Service List'!$U$2:$U$8
Name MSPSvc_05: 'Service List'!$V$2:$V$4
Name MSPSvc_06: 'Service List'!$W$2:$W$2
Name MSPSvc_07: 'Service List'!$X$2:$X$2
Name MSPSvc_08: 'Service List'!$Y$2:$Y$5
Name MSPSvc_09: 'Service List'!$Z$2:$Z$9
Name MSPSvc_10: 'Service List'!$AA$2:$AA$3
Name MSPSvc_11: 'Service List'!$AB$2:$AB$3
Name MSPSvc_12: 'Service List'!$AC$2:$AC$2
Name MSPSvc_13: 'Service List'!$AD$2:$AD$13
Name MSPSvc_14: 'Service List'!$AE$2:$AE$2
Name MSPSvc_15: 'Service List'!$AF$2:$AF$3
Name MSPSvc_16: 'Service List'!$AG$2:$AG$3
Name MSPSvc_17: 'Service List'!$AH$2:$AH$3
Name MSPSvc_18: 'Service List'!$AI$2:$AI$2
Name MSPSvc_19: 'Service List'!$AJ$2:$AJ$4
Name MSPSvc_20: 'Service List'!$AK$2:$AK$19
Name MSPSvc_21: 'Service List'!$AL$2:$AL$2
Name MSPSvc_22: 'Service List'!$AM$2:$AM$2
Name MSPSvc_23: 'Service List'!$AN$2:$AN$3
Name MSPSvc_24: 'Service List'!$AO$2:$AO$5
Name MSPSvc_25: 'Service List'!$AP$2:$AP$3
Name MSPSvc_26: 'Service List'!$AQ$2:$AQ$2
Name MSPSvc_27: 'Service List'!$AR$2:$AR$7
Name MSPSvc_28: 'Service List'!$AS$2:$AS$3
Name MSPSvc_29: 'Service List'!$AT$2:$AT$9
Name MSPSvc_30: 'Service List'!$AU$2:$AU$4
Name MSPSvc_31: 'Service List'!$AV$2:$AV$3
Name MSPSvc_32: 'Service List'!$AW$2:$AW$2
Name MSPSvc_33: 'Service List'!$AX$2:$AX$3
Name MSPSvc_34: 'Service List'!$AY$2:$AY$3
Name MSPSvc_35: 'Service List'!$AZ$2:$AZ$39
Name MSPSvc_36: 'Service List'!$BA$2:$BA$26
Name MSPSvc_37: 'Service List'!$BB$2:$BB$5
Name MSPSvc_38: 'Service List'!$BC$2:$BC$5
Name Q3bSelectedOptions: OFFSET('Service List'!$BH$2,ROW()-5,0,1,MAX(1,COUNTIF(OFFSET('Service List'!$BH$2,ROW()-5,0,1,7),"<>")))
Name ReportProviderOptions: _xlfn.ANCHORARRAY('Service List'!$H$2)
Name ReportServiceOptions: _xlfn.ANCHORARRAY('Service List'!$I$2)
Name ReportStateOptions: _xlfn.ANCHORARRAY('Service List'!$G$2)

Sheet Instructions
B1: PLEASE DO NOT EDIT OR ADJUST THE FORMAT OR FORMULA OF THIS TEMPLATE.
B2: MPSP Direct Care Targets Trial — Multi-MPS Reporting Instructions
B3: Purpose of this workbook
B4: This workbook supports Multi-MPS reporting of the MPSP Direct Care Targets Trial. Complete the Multi-MPS Reporting Template by entering one MPS per row. Provider-input fields start blue. As you progress, the next required field turns red until completed; conditional sub-questions turn red only when they apply. A red field can also indicate an invalid entry. Estimates are acceptable where requested, and supporting documents do not need to be attached. To protect the integrity of the template, question headings, instructions, automated Service ID cells and completion-check formulas are locked. Reporters can enter or select responses in the unlocked cells in columns A to C and E to AB from row 5 onward. Columns D and AC to AQ update automatically and cannot be edited.
B5: How to complete the Multi-MPS Reporting Template
B6: 1. Use the Multi-MPS Reporting Template when reporting for more than one MPS. Enter one MPS per row; do not combine MPSs in a single row. Complete all blue report-detail fields in columns A to I for every populated row. State, Provider Name, MPS Name, Staff Name, Role Title, Email Address, Contact No. and Date Completed are mandatory. GPMS Service ID in column D populates automatically as soon as the MPS Name is selected in column C. Do not type or paste into column D. Date Completed in column I must be 1 January 2027 or later; earlier dates are not accepted. 2. For Q1, select Yes or No. Complete Q1a only when Q1 is No; the response must be numeric and in minutes. When Q1 is Yes, leave Q1a blank. 3. For Q2, select Yes or No. Complete Q2a only when Q2 is No; the response must be numeric and in minutes. When Q2 is Yes, leave Q2a blank. 4. For Q3, select Yes, No or Don't know for every information source. At least one information source must be marked Yes. 5. Complete Q3a only when Other business-as-usual information is selected Yes at Q3. Enter up to 1,000 characters. If Other business-as-usual information is selected No or Don't know at Q3, leave Q3a blank. To paste multi-line text into one cell, press F2 or paste into the formula bar. 6. For Q3b, select the information type you prefer most. The dropdown shows only the information types marked Yes in Q3 for that MPS. 7. Q4 is mandatory. Enter up to 1,000 characters explaining your responses. Include relevant details such as local service arrangements, workforce constraints, mixed-service approaches, labour types, and the advantages, disadvantages or limitations of the information sources used. To paste multi-line text into one cell, press F2 or paste into the formula bar.
B7: 8. For Q5, enter the estimated total time spent completing this report; the response must be numeric and in minutes. Include time spent accessing relevant records, but exclude time spent completing the optional Calculator Tool. 9. For Q6, select Yes or No to indicate whether you intend to submit a completed optional Care Minutes Calculator Tool. 10. If Q6 is Yes, Q6a is mandatory. Tick the checkbox in column Z to confirm the completed Calculator Tool will be emailed to MPSAgedCare@health.gov.au. If Q6 is No, leave Q6a unticked. 11. If Q6 is Yes, Q6b is mandatory. Enter the estimated time taken to complete the Calculator Tool as a numeric value in minutes. Include time spent accessing relevant records. If Q6 is No, leave Q6b blank. 12. Tick the Endorsement checkbox in column AB to confirm the PDF copy of the signed Endorsement document will be emailed to MPSAgedCare@health.gov.au. 13. Review the detailed completion checks in columns AC to AP and Overall Status in column AQ. Red means Action required, amber means Pending or In progress, and green means Complete or Ready to submit. Resolve every outstanding item; Overall Status must show Ready to submit. Do not delete or overwrite formulas in columns AC to AQ.
B8: Additional information
B9: Use the following standard filename format For Stage 1 reporting template: MPSP Stage 1 DCT Trial <Provider Name> Multi-MPS Report.xlsx For Stage 2 reporting template: MPSP Stage 2 DCT Trial <Provider Name> Multi-MPS Report.xlsx Note For all the above remove or replace special characters that are not permitted in filenames (<,>). Copies of this Excel DCT reporting template, Endorsement page and Care Minutes Calculator Tool are also available as downloads on the department’s webpage: https://www.health.gov.au/our-work/multi-purpose-services-mps-program/reforms. Email the completed reporting template, PDF Endorsement and, where applicable, the completed Calculator Tool to MPSAgedCare@health.gov.au not later than the final reporting date for the relevant Stage of the trial. For assistance with completing the report, email MPSAgedCare@health.gov.au.

Sheet Multi-MPS Reporting Template
A1: MPSP Direct Care Targets Trial – Multi-MPS Report
A2: Enter one MPS per row. Once a row is started, blank required fields turn red. Completion checks and Overall Status update automatically.
A3: REPORT DETAILS | J3: QUESTIONS Q1–Q2a Note: This question is intended to provide context for trial learning. Precise calculations or supporting documentation are not required. | N3: Q3 - What type(s) of information did your MPS rely on to support the reporting above? Select Yes, No or Don't know for every source. Formal evidence is not required to be submitted with the report. | U3: Q3a - Describe the “Other business-as-usual information”. Enter a response only when ‘Other business as usual’ is Yes in Q3; otherwise skip this field | V3: Q3b - Of the information types selected, which do you prefer most? Please select the most preferred or most relied on type of information, | W3: Q4 - Please provide any additional information to help explain your responses. Please include information that is relevant to meeting or not meeting the direct care targets and the factors that contributed for example, pros/cons of preferred information types or local service arrangements, workforce constraints, mixed-service approaches or the labour types that comprise the reported outcomes. A response is required. | X3: Q5 - Enter the estimated total time to complete this report. The time taken to complete this report includes the time taken to access the information or records indicating the amount of direct care minutes and whether the targets were met. Do not include the time taken to complete the optional Care Minutes Calculator Tool (see Q6b). | Y3: Q6 - Do you intend to submit a completed optional Calculator Tool? | Z3: Q6a - If Q6 is Yes, tick the box to confirm the completed Calculator Tool will be emailed to MPSAgedCare@health.gov.au. If Q6 is No, leave the box unticked. | AA3: Q6b - Enter the estimated total time to complete the Calculator Tool. Enter minutes only when Q6 is Yes; leave blank when Q6 is No. | AB3: I confirm the PDF copy of the signed Endorsement document will be emailed to MPSAgedCare@health.gov.au. Tick the box to confirm. | AC3: COMPLETION CHECKS
A4: State | B4: Provider Name | C4: MPS Name | D4: GPMS Service ID | E4: Staff Name | F4: Role Title | G4: Email Address | H4: Contact No. | I4: Date Completed | J4: Q1 - Direct care target met | K4: Q1a - Estimated total care minutes if Q1 is No Numeric values only — enter minutes. | L4: Q2 - RN care target met | M4: Q2a - Estimated RN care minutes if Q2 is No Numeric values only — enter minutes. | N4: Rosters or staffing allocations | O4: Payroll or pay records | P4: Timesheets or staff time allocation records | Q4: Workforce, rostering or clinical systems | R4: Aggregated summaries supported by routine records | S4: Time-in-motion or structured sampling study | T4: Other business-as-usual information | U4: Free text response. Maximum 1,000 characters. To paste multi-line text into one cell, press F2 or paste into the formula bar. | V4: Q3b - Preferred Information Source | W4: Q4 - Additional Information Free text response. Maximum 1,000 characters. To paste multi-line text into one cell, press F2 or paste into the formula bar. | X4: Q5 - Report Completion Time (minutes) Numeric values only — enter minutes. | Y4: Q6 - Calculator Tool submission Yes / No | Z4: Q6a - Calculator Tool email confirmation (tick box if Yes; blank if No) | AA4: Q6b - Calculator Tool Time (minutes if Yes; blank if No) Numeric values only — enter minutes. | AB4: Endorsement confirmation (tick box) | AC4: Details | AD4: Q1 | AE4: Q1a | AF4: Q2 | AG4: Q2a | AH4: Q3 | AI4: Q3a | AJ4: Q3b | AK4: Q4 | AL4: Q5 | AM4: Q6 | AN4: Q6a | AO4: Q6b | AP4: Endorsement | AQ4: Overall Status
D5: =IF(HorizontalReportTable[[#This Row],[MPS Name]]="","",IFERROR(_xlfn.XLOOKUP(HorizontalReportTable[[#This Row],[MPS Name]],'Service ID'!$C$2:$C$185,'Service ID'!$D$2:$D$185,""),"")) | Z5: FALSE | AB5: FALSE | AC5: =IF(COUNTA($A5:$C5,$E5:$Y5,$AA5)=0,"",IF(AND($A5<>"",$B5<>"",$C5<>"",$D5<>"",LEN(TRIM($E5))>0,LEN(TRIM($F5))>0,LEN(TRIM($G5))>0,LEN(TRIM($H5))>0,ISNUMBER($I5),$I5>=DATE(2027,1,1),COUNTIFS('Service List'!$A$2:$A$188,$A5,'Service List'!$B$2:$B$188,$B5,'Service List'!$C$2:$C$188,$C5,'Service List'!$D$2:$D$188,$D5)>0),"Complete","Action required")) | AD5: =IF(COUNTA($A5:$C5,$E5:$Y5,$AA5)=0,"",IF(OR($J5="Yes",$J5="No"),"Complete","Action required")) | AE5: =IF(COUNTA($A5:$C5,$E5:$Y5,$AA5)=0,"",IF($J5="","Action required",IF($J5="No",IF(ISNUMBER($K5),"Complete","Action required"),IF($J5="Yes",IF($K5="","Complete","Action required"),"Action required")))) | AF5: =IF(COUNTA($A5:$C5,$E5:$Y5,$AA5)=0,"",IF(OR($L5="Yes",$L5="No"),"Complete","Action required")) | AG5: =IF(COUNTA($A5:$C5,$E5:$Y5,$AA5)=0,"",IF($L5="","Action required",IF($L5="No",IF(ISNUMBER($M5),"Complete","Action required"),IF($L5="Yes",IF($M5="","Complete","Action required"),"Action required")))) | AH5: =IF(COUNTA($A5:$C5,$E5:$Y5,$AA5)=0,"",IF(AND(COUNTA($N5:$T5)=7,COUNTIF($N5:$T5,"Yes")>=1,COUNTIF($N5:$T5,"Yes")+COUNTIF($N5:$T5,"No")+COUNTIF($N5:$T5,"Don't know")=7),"Complete","Action required")) | AI5: =IF(COUNTA($A5:$C5,$E5:$Y5,$AA5)=0,"",IF($T5="","Action required",IF($T5="Yes",IF(AND(LEN(TRIM($U5))>0,LEN($U5)<=1000),"Complete","Action required"),IF(OR($T5="No",$T5="Don't know"),IF($U5="","Complete","Action required"),"Action required")))) | AJ5: {=IF(COUNTA($A5:$C5,$E5:$Y5,$AA5)=0,"",IF(AND(LEN(TRIM($V5))>0,SUMPRODUCT(($N$4:$T$4=$V5)*($N5:$T5="Yes"))>0),"Complete","Action required"))} | AK5: =IF(COUNTA($A5:$C5,$E5:$Y5,$AA5)=0,"",IF(AND(LEN(TRIM($W5))>0,LEN($W5)<=1000),"Complete","Action required")) | AL5: =IF(COUNTA($A5:$C5,$E5:$Y5,$AA5)=0,"",IF(AND(ISNUMBER($X5),$X5>=0,$X5<=1440),"Complete","Action required")) | AM5: =IF(COUNTA($A5:$C5,$E5:$Y5,$AA5)=0,"",IF(OR($Y5="Yes",$Y5="No"),"Complete","Action required")) | AN5: =IF(COUNTA($A5:$C5,$E5:$Y5,$AA5)=0,"",IF($Y5="Yes",IF($Z5=TRUE,"Complete","Action required"),IF($Y5="No",IF($Z5<>TRUE,"Complete","Action required"),"Action required"))) | AO5: =IF(COUNTA($A5:$C5,$E5:$Y5,$AA5)=0,"",IF($Y5="Yes",IF(AND(ISNUMBER($AA5),$AA5>=0,$AA5<=1440),"Complete","Action required"),IF($Y5="No",IF($AA5="","Complete","Action required"),"Action required"))) | AP5: =IF(COUNTA($A5:$C5,$E5:$Y5,$AA5)=0,"",IF($AB5=TRUE,"Complete","Action required")) | AQ5: =IF(COUNTA($A5:$C5,$E5:$Y5,$AA5)=0,"",IF(COUNTIF($AC5:$AP5,"Action required")>0,"Action required",IF(COUNTIF($AC5:$AP5,"Pending")>0,"In progress","Ready to submit")))
D6: =IF(HorizontalReportTable[[#This Row],[MPS Name]]="","",IFERROR(_xlfn.XLOOKUP(HorizontalReportTable[[#This Row],[MPS Name]],'Service ID'!$C$2:$C$185,'Service ID'!$D$2:$D$185,""),"")) | Z6: FALSE | AB6: FALSE | AC6: =IF(COUNTA($A6:$C6,$E6:$Y6,$AA6)=0,"",IF(AND($A6<>"",$B6<>"",$C6<>"",$D6<>"",LEN(TRIM($E6))>0,LEN(TRIM($F6))>0,LEN(TRIM($G6))>0,LEN(TRIM($H6))>0,ISNUMBER($I6),$I6>=DATE(2027,1,1),COUNTIFS('Service List'!$A$2:$A$188,$A6,'Service List'!$B$2:$B$188,$B6,'Service List'!$C$2:$C$188,$C6,'Service List'!$D$2:$D$188,$D6)>0),"Complete","Action required")) | AD6: =IF(COUNTA($A6:$C6,$E6:$Y6,$AA6)=0,"",IF(OR($J6="Yes",$J6="No"),"Complete","Action required")) | AE6: =IF(COUNTA($A6:$C6,$E6:$Y6,$AA6)=0,"",IF($J6="","Action required",IF($J6="No",IF(ISNUMBER($K6),"Complete","Action required"),IF($J6="Yes",IF($K6="","Complete","Action required"),"Action required")))) | AF6: =IF(COUNTA($A6:$C6,$E6:$Y6,$AA6)=0,"",IF(OR($L6="Yes",$L6="No"),"Complete","Action required")) | AG6: =IF(COUNTA($A6:$C6,$E6:$Y6,$AA6)=0,"",IF($L6="","Action required",IF($L6="No",IF(ISNUMBER($M6),"Complete","Action required"),IF($L6="Yes",IF($M6="","Complete","Action required"),"Action required")))) | AH6: =IF(COUNTA($A6:$C6,$E6:$Y6,$AA6)=0,"",IF(AND(COUNTA($N6:$T6)=7,COUNTIF($N6:$T6,"Yes")>=1,COUNTIF($N6:$T6,"Yes")+COUNTIF($N6:$T6,"No")+COUNTIF($N6:$T6,"Don't know")=7),"Complete","Action required")) | AI6: =IF(COUNTA($A6:$C6,$E6:$Y6,$AA6)=0,"",IF($T6="","Action required",IF($T6="Yes",IF(AND(LEN(TRIM($U6))>0,LEN($U6)<=1000),"Complete","Action required"),IF(OR($T6="No",$T6="Don't know"),IF($U6="","Complete","Action required"),"Action required")))) | AJ6: {=IF(COUNTA($A6:$C6,$E6:$Y6,$AA6)=0,"",IF(AND(LEN(TRIM($V6))>0,SUMPRODUCT(($N$4:$T$4=$V6)*($N6:$T6="Yes"))>0),"Complete","Action required"))} | AK6: =IF(COUNTA($A6:$C6,$E6:$Y6,$AA6)=0,"",IF(AND(LEN(TRIM($W6))>0,LEN($W6)<=1000),"Complete","Action required")) | AL6: =IF(COUNTA($A6:$C6,$E6:$Y6,$AA6)=0,"",IF(AND(ISNUMBER($X6),$X6>=0,$X6<=1440),"Complete","Action required")) | AM6: =IF(COUNTA($A6:$C6,$E6:$Y6,$AA6)=0,"",IF(OR($Y6="Yes",$Y6="No"),"Complete","Action required")) | AN6: =IF(COUNTA($A6:$C6,$E6:$Y6,$AA6)=0,"",IF($Y6="Yes",IF($Z6=TRUE,"Complete","Action required"),IF($Y6="No",IF($Z6<>TRUE,"Complete","Action required"),"Action required"))) | AO6: =IF(COUNTA($A6:$C6,$E6:$Y6,$AA6)=0,"",IF($Y6="Yes",IF(AND(ISNUMBER($AA6),$AA6>=0,$AA6<=1440),"Complete","Action required"),IF($Y6="No",IF($AA6="","Complete","Action required"),"Action required"))) | AP6: =IF(COUNTA($A6:$C6,$E6:$Y6,$AA6)=0,"",IF($AB6=TRUE,"Complete","Action required")) | AQ6: =IF(COUNTA($A6:$C6,$E6:$Y6,$AA6)=0,"",IF(COUNTIF($AC6:$AP6,"Action required")>0,"Action required",IF(COUNTIF($AC6:$AP6,"Pending")>0,"In progress","Ready to submit")))
D7: =IF(HorizontalReportTable[[#This Row],[MPS Name]]="","",IFERROR(_xlfn.XLOOKUP(HorizontalReportTable[[#This Row],[MPS Name]],'Service ID'!$C$2:$C$185,'Service ID'!$D$2:$D$185,""),"")) | Z7: FALSE | AB7: FALSE | AC7: =IF(COUNTA($A7:$C7,$E7:$Y7,$AA7)=0,"",IF(AND($A7<>"",$B7<>"",$C7<>"",$D7<>"",LEN(TRIM($E7))>0,LEN(TRIM($F7))>0,LEN(TRIM($G7))>0,LEN(TRIM($H7))>0,ISNUMBER($I7),$I7>=DATE(2027,1,1),COUNTIFS('Service List'!$A$2:$A$188,$A7,'Service List'!$B$2:$B$188,$B7,'Service List'!$C$2:$C$188,$C7,'Service List'!$D$2:$D$188,$D7)>0),"Complete","Action required")) | AD7: =IF(COUNTA($A7:$C7,$E7:$Y7,$AA7)=0,"",IF(OR($J7="Yes",$J7="No"),"Complete","Action required")) | AE7: =IF(COUNTA($A7:$C7,$E7:$Y7,$AA7)=0,"",IF($J7="","Action required",IF($J7="No",IF(ISNUMBER($K7),"Complete","Action required"),IF($J7="Yes",IF($K7="","Complete","Action required"),"Action required")))) | AF7: =IF(COUNTA($A7:$C7,$E7:$Y7,$AA7)=0,"",IF(OR($L7="Yes",$L7="No"),"Complete","Action required")) | AG7: =IF(COUNTA($A7:$C7,$E7:$Y7,$AA7)=0,"",IF($L7="","Action required",IF($L7="No",IF(ISNUMBER($M7),"Complete","Action required"),IF($L7="Yes",IF($M7="","Complete","Action required"),"Action required")))) | AH7: =IF(COUNTA($A7:$C7,$E7:$Y7,$AA7)=0,"",IF(AND(COUNTA($N7:$T7)=7,COUNTIF($N7:$T7,"Yes")>=1,COUNTIF($N7:$T7,"Yes")+COUNTIF($N7:$T7,"No")+COUNTIF($N7:$T7,"Don't know")=7),"Complete","Action required")) | AI7: =IF(COUNTA($A7:$C7,$E7:$Y7,$AA7)=0,"",IF($T7="","Action required",IF($T7="Yes",IF(AND(LEN(TRIM($U7))>0,LEN($U7)<=1000),"Complete","Action required"),IF(OR($T7="No",$T7="Don't know"),IF($U7="","Complete","Action required"),"Action required")))) | AJ7: {=IF(COUNTA($A7:$C7,$E7:$Y7,$AA7)=0,"",IF(AND(LEN(TRIM($V7))>0,SUMPRODUCT(($N$4:$T$4=$V7)*($N7:$T7="Yes"))>0),"Complete","Action required"))} | AK7: =IF(COUNTA($A7:$C7,$E7:$Y7,$AA7)=0,"",IF(AND(LEN(TRIM($W7))>0,LEN($W7)<=1000),"Complete","Action required")) | AL7: =IF(COUNTA($A7:$C7,$E7:$Y7,$AA7)=0,"",IF(AND(ISNUMBER($X7),$X7>=0,$X7<=1440),"Complete","Action required")) | AM7: =IF(COUNTA($A7:$C7,$E7:$Y7,$AA7)=0,"",IF(OR($Y7="Yes",$Y7="No"),"Complete","Action required")) | AN7: =IF(COUNTA($A7:$C7,$E7:$Y7,$AA7)=0,"",IF($Y7="Yes",IF($Z7=TRUE,"Complete","Action required"),IF($Y7="No",IF($Z7<>TRUE,"Complete","Action required"),"Action required"))) | AO7: =IF(COUNTA($A7:$C7,$E7:$Y7,$AA7)=0,"",IF($Y7="Yes",IF(AND(ISNUMBER($AA7),$AA7>=0,$AA7<=1440),"Complete","Action required"),IF($Y7="No",IF($AA7="","Complete","Action required"),"Action required"))) | AP7: =IF(COUNTA($A7:$C7,$E7:$Y7,$AA7)=0,"",IF($AB7=TRUE,"Complete","Action required")) | AQ7: =IF(COUNTA($A7:$C7,$E7:$Y7,$AA7)=0,"",IF(COUNTIF($AC7:$AP7,"Action required")>0,"Action required",IF(COUNTIF($AC7:$AP7,"Pending")>0,"In progress","Ready to submit")))
D8: =IF(HorizontalReportTable[[#This Row],[MPS Name]]="","",IFERROR(_xlfn.XLOOKUP(HorizontalReportTable[[#This Row],[MPS Name]],'Service ID'!$C$2:$C$185,'Service ID'!$D$2:$D$185,""),"")) | Z8: FALSE | AB8: FALSE | AC8: =IF(COUNTA($A8:$C8,$E8:$Y8,$AA8)=0,"",IF(AND($A8<>"",$B8<>"",$C8<>"",$D8<>"",LEN(TRIM($E8))>0,LEN(TRIM($F8))>0,LEN(TRIM($G8))>0,LEN(TRIM($H8))>0,ISNUMBER($I8),$I8>=DATE(2027,1,1),COUNTIFS('Service List'!$A$2:$A$188,$A8,'Service List'!$B$2:$B$188,$B8,'Service List'!$C$2:$C$188,$C8,'Service List'!$D$2:$D$188,$D8)>0),"Complete","Action required")) | AD8: =IF(COUNTA($A8:$C8,$E8:$Y8,$AA8)=0,"",IF(OR($J8="Yes",$J8="No"),"Complete","Action required")) | AE8: =IF(COUNTA($A8:$C8,$E8:$Y8,$AA8)=0,"",IF($J8="","Action required",IF($J8="No",IF(ISNUMBER($K8),"Complete","Action required"),IF($J8="Yes",IF($K8="","Complete","Action required"),"Action required")))) | AF8: =IF(COUNTA($A8:$C8,$E8:$Y8,$AA8)=0,"",IF(OR($L8="Yes",$L8="No"),"Complete","Action required")) | AG8: =IF(COUNTA($A8:$C8,$E8:$Y8,$AA8)=0,"",IF($L8="","Action required",IF($L8="No",IF(ISNUMBER($M8),"Complete","Action required"),IF($L8="Yes",IF($M8="","Complete","Action required"),"Action required")))) | AH8: =IF(COUNTA($A8:$C8,$E8:$Y8,$AA8)=0,"",IF(AND(COUNTA($N8:$T8)=7,COUNTIF($N8:$T8,"Yes")>=1,COUNTIF($N8:$T8,"Yes")+COUNTIF($N8:$T8,"No")+COUNTIF($N8:$T8,"Don't know")=7),"Complete","Action required")) | AI8: =IF(COUNTA($A8:$C8,$E8:$Y8,$AA8)=0,"",IF($T8="","Action required",IF($T8="Yes",IF(AND(LEN(TRIM($U8))>0,LEN($U8)<=1000),"Complete","Action required"),IF(OR($T8="No",$T8="Don't know"),IF($U8="","Complete","Action required"),"Action required")))) | AJ8: {=IF(COUNTA($A8:$C8,$E8:$Y8,$AA8)=0,"",IF(AND(LEN(TRIM($V8))>0,SUMPRODUCT(($N$4:$T$4=$V8)*($N8:$T8="Yes"))>0),"Complete","Action required"))} | AK8: =IF(COUNTA($A8:$C8,$E8:$Y8,$AA8)=0,"",IF(AND(LEN(TRIM($W8))>0,LEN($W8)<=1000),"Complete","Action required")) | AL8: =IF(COUNTA($A8:$C8,$E8:$Y8,$AA8)=0,"",IF(AND(ISNUMBER($X8),$X8>=0,$X8<=1440),"Complete","Action required")) | AM8: =IF(COUNTA($A8:$C8,$E8:$Y8,$AA8)=0,"",IF(OR($Y8="Yes",$Y8="No"),"Complete","Action required")) | AN8: =IF(COUNTA($A8:$C8,$E8:$Y8,$AA8)=0,"",IF($Y8="Yes",IF($Z8=TRUE,"Complete","Action required"),IF($Y8="No",IF($Z8<>TRUE,"Complete","Action required"),"Action required"))) | AO8: =IF(COUNTA($A8:$C8,$E8:$Y8,$AA8)=0,"",IF($Y8="Yes",IF(AND(ISNUMBER($AA8),$AA8>=0,$AA8<=1440),"Complete","Action required"),IF($Y8="No",IF($AA8="","Complete","Action required"),"Action required"))) | AP8: =IF(COUNTA($A8:$C8,$E8:$Y8,$AA8)=0,"",IF($AB8=TRUE,"Complete","Action required")) | AQ8: =IF(COUNTA($A8:$C8,$E8:$Y8,$AA8)=0,"",IF(COUNTIF($AC8:$AP8,"Action required")>0,"Action required",IF(COUNTIF($AC8:$AP8,"Pending")>0,"In progress","Ready to submit")))
D9: =IF(HorizontalReportTable[[#This Row],[MPS Name]]="","",IFERROR(_xlfn.XLOOKUP(HorizontalReportTable[[#This Row],[MPS Name]],'Service ID'!$C$2:$C$185,'Service ID'!$D$2:$D$185,""),"")) | Z9: FALSE | AB9: FALSE | AC9: =IF(COUNTA($A9:$C9,$E9:$Y9,$AA9)=0,"",IF(AND($A9<>"",$B9<>"",$C9<>"",$D9<>"",LEN(TRIM($E9))>0,LEN(TRIM($F9))>0,LEN(TRIM($G9))>0,LEN(TRIM($H9))>0,ISNUMBER($I9),$I9>=DATE(2027,1,1),COUNTIFS('Service List'!$A$2:$A$188,$A9,'Service List'!$B$2:$B$188,$B9,'Service List'!$C$2:$C$188,$C9,'Service List'!$D$2:$D$188,$D9)>0),"Complete","Action required")) | AD9: =IF(COUNTA($A9:$C9,$E9:$Y9,$AA9)=0,"",IF(OR($J9="Yes",$J9="No"),"Complete","Action required")) | AE9: =IF(COUNTA($A9:$C9,$E9:$Y9,$AA9)=0,"",IF($J9="","Action required",IF($J9="No",IF(ISNUMBER($K9),"Complete","Action required"),IF($J9="Yes",IF($K9="","Complete","Action required"),"Action required")))) | AF9: =IF(COUNTA($A9:$C9,$E9:$Y9,$AA9)=0,"",IF(OR($L9="Yes",$L9="No"),"Complete","Action required")) | AG9: =IF(COUNTA($A9:$C9,$E9:$Y9,$AA9)=0,"",IF($L9="","Action required",IF($L9="No",IF(ISNUMBER($M9),"Complete","Action required"),IF($L9="Yes",IF($M9="","Complete","Action required"),"Action required")))) | AH9: =IF(COUNTA($A9:$C9,$E9:$Y9,$AA9)=0,"",IF(AND(COUNTA($N9:$T9)=7,COUNTIF($N9:$T9,"Yes")>=1,COUNTIF($N9:$T9,"Yes")+COUNTIF($N9:$T9,"No")+COUNTIF($N9:$T9,"Don't know")=7),"Complete","Action required")) | AI9: =IF(COUNTA($A9:$C9,$E9:$Y9,$AA9)=0,"",IF($T9="","Action required",IF($T9="Yes",IF(AND(LEN(TRIM($U9))>0,LEN($U9)<=1000),"Complete","Action required"),IF(OR($T9="No",$T9="Don't know"),IF($U9="","Complete","Action required"),"Action required")))) | AJ9: {=IF(COUNTA($A9:$C9,$E9:$Y9,$AA9)=0,"",IF(AND(LEN(TRIM($V9))>0,SUMPRODUCT(($N$4:$T$4=$V9)*($N9:$T9="Yes"))>0),"Complete","Action required"))} | AK9: =IF(COUNTA($A9:$C9,$E9:$Y9,$AA9)=0,"",IF(AND(LEN(TRIM($W9))>0,LEN($W9)<=1000),"Complete","Action required")) | AL9: =IF(COUNTA($A9:$C9,$E9:$Y9,$AA9)=0,"",IF(AND(ISNUMBER($X9),$X9>=0,$X9<=1440),"Complete","Action required")) | AM9: =IF(COUNTA($A9:$C9,$E9:$Y9,$AA9)=0,"",IF(OR($Y9="Yes",$Y9="No"),"Complete","Action required")) | AN9: =IF(COUNTA($A9:$C9,$E9:$Y9,$AA9)=0,"",IF($Y9="Yes",IF($Z9=TRUE,"Complete","Action required"),IF($Y9="No",IF($Z9<>TRUE,"Complete","Action required"),"Action required"))) | AO9: =IF(COUNTA($A9:$C9,$E9:$Y9,$AA9)=0,"",IF($Y9="Yes",IF(AND(ISNUMBER($AA9),$AA9>=0,$AA9<=1440),"Complete","Action required"),IF($Y9="No",IF($AA9="","Complete","Action required"),"Action required"))) | AP9: =IF(COUNTA($A9:$C9,$E9:$Y9,$AA9)=0,"",IF($AB9=TRUE,"Complete","Action required")) | AQ9: =IF(COUNTA($A9:$C9,$E9:$Y9,$AA9)=0,"",IF(COUNTIF($AC9:$AP9,"Action required")>0,"Action required",IF(COUNTIF($AC9:$AP9,"Pending")>0,"In progress","Ready to submit")))
D10: =IF(HorizontalReportTable[[#This Row],[MPS Name]]="","",IFERROR(_xlfn.XLOOKUP(HorizontalReportTable[[#This Row],[MPS Name]],'Service ID'!$C$2:$C$185,'Service ID'!$D$2:$D$185,""),"")) | Z10: FALSE | AB10: FALSE | AC10: =IF(COUNTA($A10:$C10,$E10:$Y10,$AA10)=0,"",IF(AND($A10<>"",$B10<>"",$C10<>"",$D10<>"",LEN(TRIM($E10))>0,LEN(TRIM($F10))>0,LEN(TRIM($G10))>0,LEN(TRIM($H10))>0,ISNUMBER($I10),$I10>=DATE(2027,1,1),COUNTIFS('Service List'!$A$2:$A$188,$A10,'Service List'!$B$2:$B$188,$B10,'Service List'!$C$2:$C$188,$C10,'Service List'!$D$2:$D$188,$D10)>0),"Complete","Action required")) | AD10: =IF(COUNTA($A10:$C10,$E10:$Y10,$AA10)=0,"",IF(OR($J10="Yes",$J10="No"),"Complete","Action required")) | AE10: =IF(COUNTA($A10:$C10,$E10:$Y10,$AA10)=0,"",IF($J10="","Action required",IF($J10="No",IF(ISNUMBER($K10),"Complete","Action required"),IF($J10="Yes",IF($K10="","Complete","Action required"),"Action required")))) | AF10: =IF(COUNTA($A10:$C10,$E10:$Y10,$AA10)=0,"",IF(OR($L10="Yes",$L10="No"),"Complete","Action required")) | AG10: =IF(COUNTA($A10:$C10,$E10:$Y10,$AA10)=0,"",IF($L10="","Action required",IF($L10="No",IF(ISNUMBER($M10),"Complete","Action required"),IF($L10="Yes",IF($M10="","Complete","Action required"),"Action required")))) | AH10: =IF(COUNTA($A10:$C10,$E10:$Y10,$AA10)=0,"",IF(AND(COUNTA($N10:$T10)=7,COUNTIF($N10:$T10,"Yes")>=1,COUNTIF($N10:$T10,"Yes")+COUNTIF($N10:$T10,"No")+COUNTIF($N10:$T10,"Don't know")=7),"Complete","Action required")) | AI10: =IF(COUNTA($A10:$C10,$E10:$Y10,$AA10)=0,"",IF($T10="","Action required",IF($T10="Yes",IF(AND(LEN(TRIM($U10))>0,LEN($U10)<=1000),"Complete","Action required"),IF(OR($T10="No",$T10="Don't know"),IF($U10="","Complete","Action required"),"Action required")))) | AJ10: {=IF(COUNTA($A10:$C10,$E10:$Y10,$AA10)=0,"",IF(AND(LEN(TRIM($V10))>0,SUMPRODUCT(($N$4:$T$4=$V10)*($N10:$T10="Yes"))>0),"Complete","Action required"))} | AK10: =IF(COUNTA($A10:$C10,$E10:$Y10,$AA10)=0,"",IF(AND(LEN(TRIM($W10))>0,LEN($W10)<=1000),"Complete","Action required")) | AL10: =IF(COUNTA($A10:$C10,$E10:$Y10,$AA10)=0,"",IF(AND(ISNUMBER($X10),$X10>=0,$X10<=1440),"Complete","Action required")) | AM10: =IF(COUNTA($A10:$C10,$E10:$Y10,$AA10)=0,"",IF(OR($Y10="Yes",$Y10="No"),"Complete","Action required")) | AN10: =IF(COUNTA($A10:$C10,$E10:$Y10,$AA10)=0,"",IF($Y10="Yes",IF($Z10=TRUE,"Complete","Action required"),IF($Y10="No",IF($Z10<>TRUE,"Complete","Action required"),"Action required"))) | AO10: =IF(COUNTA($A10:$C10,$E10:$Y10,$AA10)=0,"",IF($Y10="Yes",IF(AND(ISNUMBER($AA10),$AA10>=0,$AA10<=1440),"Complete","Action required"),IF($Y10="No",IF($AA10="","Complete","Action required"),"Action required"))) | AP10: =IF(COUNTA($A10:$C10,$E10:$Y10,$AA10)=0,"",IF($AB10=TRUE,"Complete","Action required")) | AQ10: =IF(COUNTA($A10:$C10,$E10:$Y10,$AA10)=0,"",IF(COUNTIF($AC10:$AP10,"Action required")>0,"Action required",IF(COUNTIF($AC10:$AP10,"Pending")>0,"In progress","Ready to submit")))
D11: =IF(HorizontalReportTable[[#This Row],[MPS Name]]="","",IFERROR(_xlfn.XLOOKUP(HorizontalReportTable[[#This Row],[MPS Name]],'Service ID'!$C$2:$C$185,'Service ID'!$D$2:$D$185,""),"")) | Z11: FALSE | AB11: FALSE | AC11: =IF(COUNTA($A11:$C11,$E11:$Y11,$AA11)=0,"",IF(AND($A11<>"",$B11<>"",$C11<>"",$D11<>"",LEN(TRIM($E11))>0,LEN(TRIM($F11))>0,LEN(TRIM($G11))>0,LEN(TRIM($H11))>0,ISNUMBER($I11),$I11>=DATE(2027,1,1),COUNTIFS('Service List'!$A$2:$A$188,$A11,'Service List'!$B$2:$B$188,$B11,'Service List'!$C$2:$C$188,$C11,'Service List'!$D$2:$D$188,$D11)>0),"Complete","Action required")) | AD11: =IF(COUNTA($A11:$C11,$E11:$Y11,$AA11)=0,"",IF(OR($J11="Yes",$J11="No"),"Complete","Action required")) | AE11: =IF(COUNTA($A11:$C11,$E11:$Y11,$AA11)=0,"",IF($J11="","Action required",IF($J11="No",IF(ISNUMBER($K11),"Complete","Action required"),IF($J11="Yes",IF($K11="","Complete","Action required"),"Action required")))) | AF11: =IF(COUNTA($A11:$C11,$E11:$Y11,$AA11)=0,"",IF(OR($L11="Yes",$L11="No"),"Complete","Action required")) | AG11: =IF(COUNTA($A11:$C11,$E11:$Y11,$AA11)=0,"",IF($L11="","Action required",IF($L11="No",IF(ISNUMBER($M11),"Complete","Action required"),IF($L11="Yes",IF($M11="","Complete","Action required"),"Action required")))) | AH11: =IF(COUNTA($A11:$C11,$E11:$Y11,$AA11)=0,"",IF(AND(COUNTA($N11:$T11)=7,COUNTIF($N11:$T11,"Yes")>=1,COUNTIF($N11:$T11,"Yes")+COUNTIF($N11:$T11,"No")+COUNTIF($N11:$T11,"Don't know")=7),"Complete","Action required")) | AI11: =IF(COUNTA($A11:$C11,$E11:$Y11,$AA11)=0,"",IF($T11="","Action required",IF($T11="Yes",IF(AND(LEN(TRIM($U11))>0,LEN($U11)<=1000),"Complete","Action required"),IF(OR($T11="No",$T11="Don't know"),IF($U11="","Complete","Action required"),"Action required")))) | AJ11: {=IF(COUNTA($A11:$C11,$E11:$Y11,$AA11)=0,"",IF(AND(LEN(TRIM($V11))>0,SUMPRODUCT(($N$4:$T$4=$V11)*($N11:$T11="Yes"))>0),"Complete","Action required"))} | AK11: =IF(COUNTA($A11:$C11,$E11:$Y11,$AA11)=0,"",IF(AND(LEN(TRIM($W11))>0,LEN($W11)<=1000),"Complete","Action required")) | AL11: =IF(COUNTA($A11:$C11,$E11:$Y11,$AA11)=0,"",IF(AND(ISNUMBER($X11),$X11>=0,$X11<=1440),"Complete","Action required")) | AM11: =IF(COUNTA($A11:$C11,$E11:$Y11,$AA11)=0,"",IF(OR($Y11="Yes",$Y11="No"),"Complete","Action required")) | AN11: =IF(COUNTA($A11:$C11,$E11:$Y11,$AA11)=0,"",IF($Y11="Yes",IF($Z11=TRUE,"Complete","Action required"),IF($Y11="No",IF($Z11<>TRUE,"Complete","Action required"),"Action required"))) | AO11: =IF(COUNTA($A11:$C11,$E11:$Y11,$AA11)=0,"",IF($Y11="Yes",IF(AND(ISNUMBER($AA11),$AA11>=0,$AA11<=1440),"Complete","Action required"),IF($Y11="No",IF($AA11="","Complete","Action required"),"Action required"))) | AP11: =IF(COUNTA($A11:$C11,$E11:$Y11,$AA11)=0,"",IF($AB11=TRUE,"Complete","Action required")) | AQ11: =IF(COUNTA($A11:$C11,$E11:$Y11,$AA11)=0,"",IF(COUNTIF($AC11:$AP11,"Action required")>0,"Action required",IF(COUNTIF($AC11:$AP11,"Pending")>0,"In progress","Ready to submit")))
D12: =IF(HorizontalReportTable[[#This Row],[MPS Name]]="","",IFERROR(_xlfn.XLOOKUP(HorizontalReportTable[[#This Row],[MPS Name]],'Service ID'!$C$2:$C$185,'Service ID'!$D$2:$D$185,""),"")) | Z12: FALSE | AB12: FALSE | AC12: =IF(COUNTA($A12:$C12,$E12:$Y12,$AA12)=0,"",IF(AND($A12<>"",$B12<>"",$C12<>"",$D12<>"",LEN(TRIM($E12))>0,LEN(TRIM($F12))>0,LEN(TRIM($G12))>0,LEN(TRIM($H12))>0,ISNUMBER($I12),$I12>=DATE(2027,1,1),COUNTIFS('Service List'!$A$2:$A$188,$A12,'Service List'!$B$2:$B$188,$B12,'Service List'!$C$2:$C$188,$C12,'Service List'!$D$2:$D$188,$D12)>0),"Complete","Action required")) | AD12: =IF(COUNTA($A12:$C12,$E12:$Y12,$AA12)=0,"",IF(OR($J12="Yes",$J12="No"),"Complete","Action required")) | AE12: =IF(COUNTA($A12:$C12,$E12:$Y12,$AA12)=0,"",IF($J12="","Action required",IF($J12="No",IF(ISNUMBER($K12),"Complete","Action required"),IF($J12="Yes",IF($K12="","Complete","Action required"),"Action required")))) | AF12: =IF(COUNTA($A12:$C12,$E12:$Y12,$AA12)=0,"",IF(OR($L12="Yes",$L12="No"),"Complete","Action required")) | AG12: =IF(COUNTA($A12:$C12,$E12:$Y12,$AA12)=0,"",IF($L12="","Action required",IF($L12="No",IF(ISNUMBER($M12),"Complete","Action required"),IF($L12="Yes",IF($M12="","Complete","Action required"),"Action required")))) | AH12: =IF(COUNTA($A12:$C12,$E12:$Y12,$AA12)=0,"",IF(AND(COUNTA($N12:$T12)=7,COUNTIF($N12:$T12,"Yes")>=1,COUNTIF($N12:$T12,"Yes")+COUNTIF($N12:$T12,"No")+COUNTIF($N12:$T12,"Don't know")=7),"Complete","Action required")) | AI12: =IF(COUNTA($A12:$C12,$E12:$Y12,$AA12)=0,"",IF($T12="","Action required",IF($T12="Yes",IF(AND(LEN(TRIM($U12))>0,LEN($U12)<=1000),"Complete","Action required"),IF(OR($T12="No",$T12="Don't know"),IF($U12="","Complete","Action required"),"Action required")))) | AJ12: {=IF(COUNTA($A12:$C12,$E12:$Y12,$AA12)=0,"",IF(AND(LEN(TRIM($V12))>0,SUMPRODUCT(($N$4:$T$4=$V12)*($N12:$T12="Yes"))>0),"Complete","Action required"))} | AK12: =IF(COUNTA($A12:$C12,$E12:$Y12,$AA12)=0,"",IF(AND(LEN(TRIM($W12))>0,LEN($W12)<=1000),"Complete","Action required")) | AL12: =IF(COUNTA($A12:$C12,$E12:$Y12,$AA12)=0,"",IF(AND(ISNUMBER($X12),$X12>=0,$X12<=1440),"Complete","Action required")) | AM12: =IF(COUNTA($A12:$C12,$E12:$Y12,$AA12)=0,"",IF(OR($Y12="Yes",$Y12="No"),"Complete","Action required")) | AN12: =IF(COUNTA($A12:$C12,$E12:$Y12,$AA12)=0,"",IF($Y12="Yes",IF($Z12=TRUE,"Complete","Action required"),IF($Y12="No",IF($Z12<>TRUE,"Complete","Action required"),"Action required"))) | AO12: =IF(COUNTA($A12:$C12,$E12:$Y12,$AA12)=0,"",IF($Y12="Yes",IF(AND(ISNUMBER($AA12),$AA12>=0,$AA12<=1440),"Complete","Action required"),IF($Y12="No",IF($AA12="","Complete","Action required"),"Action required"))) | AP12: =IF(COUNTA($A12:$C12,$E12:$Y12,$AA12)=0,"",IF($AB12=TRUE,"Complete","Action required")) | AQ12: =IF(COUNTA($A12:$C12,$E12:$Y12,$AA12)=0,"",IF(COUNTIF($AC12:$AP12,"Action required")>0,"Action required",IF(COUNTIF($AC12:$AP12,"Pending")>0,"In progress","Ready to submit")))
D13: =IF(HorizontalReportTable[[#This Row],[MPS Name]]="","",IFERROR(_xlfn.XLOOKUP(HorizontalReportTable[[#This Row],[MPS Name]],'Service ID'!$C$2:$C$185,'Service ID'!$D$2:$D$185,""),"")) | Z13: FALSE | AB13: FALSE | AC13: =IF(COUNTA($A13:$C13,$E13:$Y13,$AA13)=0,"",IF(AND($A13<>"",$B13<>"",$C13<>"",$D13<>"",LEN(TRIM($E13))>0,LEN(TRIM($F13))>0,LEN(TRIM($G13))>0,LEN(TRIM($H13))>0,ISNUMBER($I13),$I13>=DATE(2027,1,1),COUNTIFS('Service List'!$A$2:$A$188,$A13,'Service List'!$B$2:$B$188,$B13,'Service List'!$C$2:$C$188,$C13,'Service List'!$D$2:$D$188,$D13)>0),"Complete","Action required")) | AD13: =IF(COUNTA($A13:$C13,$E13:$Y13,$AA13)=0,"",IF(OR($J13="Yes",$J13="No"),"Complete","Action required")) | AE13: =IF(COUNTA($A13:$C13,$E13:$Y13,$AA13)=0,"",IF($J13="","Action required",IF($J13="No",IF(ISNUMBER($K13),"Complete","Action required"),IF($J13="Yes",IF($K13="","Complete","Action required"),"Action required")))) | AF13: =IF(COUNTA($A13:$C13,$E13:$Y13,$AA13)=0,"",IF(OR($L13="Yes",$L13="No"),"Complete","Action required")) | AG13: =IF(COUNTA($A13:$C13,$E13:$Y13,$AA13)=0,"",IF($L13="","Action required",IF($L13="No",IF(ISNUMBER($M13),"Complete","Action required"),IF($L13="Yes",IF($M13="","Complete","Action required"),"Action required")))) | AH13: =IF(COUNTA($A13:$C13,$E13:$Y13,$AA13)=0,"",IF(AND(COUNTA($N13:$T13)=7,COUNTIF($N13:$T13,"Yes")>=1,COUNTIF($N13:$T13,"Yes")+COUNTIF($N13:$T13,"No")+COUNTIF($N13:$T13,"Don't know")=7),"Complete","Action required")) | AI13: =IF(COUNTA($A13:$C13,$E13:$Y13,$AA13)=0,"",IF($T13="","Action required",IF($T13="Yes",IF(AND(LEN(TRIM($U13))>0,LEN($U13)<=1000),"Complete","Action required"),IF(OR($T13="No",$T13="Don't know"),IF($U13="","Complete","Action required"),"Action required")))) | AJ13: {=IF(COUNTA($A13:$C13,$E13:$Y13,$AA13)=0,"",IF(AND(LEN(TRIM($V13))>0,SUMPRODUCT(($N$4:$T$4=$V13)*($N13:$T13="Yes"))>0),"Complete","Action required"))} | AK13: =IF(COUNTA($A13:$C13,$E13:$Y13,$AA13)=0,"",IF(AND(LEN(TRIM($W13))>0,LEN($W13)<=1000),"Complete","Action required")) | AL13: =IF(COUNTA($A13:$C13,$E13:$Y13,$AA13)=0,"",IF(AND(ISNUMBER($X13),$X13>=0,$X13<=1440),"Complete","Action required")) | AM13: =IF(COUNTA($A13:$C13,$E13:$Y13,$AA13)=0,"",IF(OR($Y13="Yes",$Y13="No"),"Complete","Action required")) | AN13: =IF(COUNTA($A13:$C13,$E13:$Y13,$AA13)=0,"",IF($Y13="Yes",IF($Z13=TRUE,"Complete","Action required"),IF($Y13="No",IF($Z13<>TRUE,"Complete","Action required"),"Action required"))) | AO13: =IF(COUNTA($A13:$C13,$E13:$Y13,$AA13)=0,"",IF($Y13="Yes",IF(AND(ISNUMBER($AA13),$AA13>=0,$AA13<=1440),"Complete","Action required"),IF($Y13="No",IF($AA13="","Complete","Action required"),"Action required"))) | AP13: =IF(COUNTA($A13:$C13,$E13:$Y13,$AA13)=0,"",IF($AB13=TRUE,"Complete","Action required")) | AQ13: =IF(COUNTA($A13:$C13,$E13:$Y13,$AA13)=0,"",IF(COUNTIF($AC13:$AP13,"Action required")>0,"Action required",IF(COUNTIF($AC13:$AP13,"Pending")>0,"In progress","Ready to submit")))
D14: =IF(HorizontalReportTable[[#This Row],[MPS Name]]="","",IFERROR(_xlfn.XLOOKUP(HorizontalReportTable[[#This Row],[MPS Name]],'Service ID'!$C$2:$C$185,'Service ID'!$D$2:$D$185,""),"")) | Z14: FALSE | AB14: FALSE | AC14: =IF(COUNTA($A14:$C14,$E14:$Y14,$AA14)=0,"",IF(AND($A14<>"",$B14<>"",$C14<>"",$D14<>"",LEN(TRIM($E14))>0,LEN(TRIM($F14))>0,LEN(TRIM($G14))>0,LEN(TRIM($H14))>0,ISNUMBER($I14),$I14>=DATE(2027,1,1),COUNTIFS('Service List'!$A$2:$A$188,$A14,'Service List'!$B$2:$B$188,$B14,'Service List'!$C$2:$C$188,$C14,'Service List'!$D$2:$D$188,$D14)>0),"Complete","Action required")) | AD14: =IF(COUNTA($A14:$C14,$E14:$Y14,$AA14)=0,"",IF(OR($J14="Yes",$J14="No"),"Complete","Action required")) | AE14: =IF(COUNTA($A14:$C14,$E14:$Y14,$AA14)=0,"",IF($J14="","Action required",IF($J14="No",IF(ISNUMBER($K14),"Complete","Action required"),IF($J14="Yes",IF($K14="","Complete","Action required"),"Action required")))) | AF14: =IF(COUNTA($A14:$C14,$E14:$Y14,$AA14)=0,"",IF(OR($L14="Yes",$L14="No"),"Complete","Action required")) | AG14: =IF(COUNTA($A14:$C14,$E14:$Y14,$AA14)=0,"",IF($L14="","Action required",IF($L14="No",IF(ISNUMBER($M14),"Complete","Action required"),IF($L14="Yes",IF($M14="","Complete","Action required"),"Action required")))) | AH14: =IF(COUNTA($A14:$C14,$E14:$Y14,$AA14)=0,"",IF(AND(COUNTA($N14:$T14)=7,COUNTIF($N14:$T14,"Yes")>=1,COUNTIF($N14:$T14,"Yes")+COUNTIF($N14:$T14,"No")+COUNTIF($N14:$T14,"Don't know")=7),"Complete","Action required")) | AI14: =IF(COUNTA($A14:$C14,$E14:$Y14,$AA14)=0,"",IF($T14="","Action required",IF($T14="Yes",IF(AND(LEN(TRIM($U14))>0,LEN($U14)<=1000),"Complete","Action required"),IF(OR($T14="No",$T14="Don't know"),IF($U14="","Complete","Action required"),"Action required")))) | AJ14: {=IF(COUNTA($A14:$C14,$E14:$Y14,$AA14)=0,"",IF(AND(LEN(TRIM($V14))>0,SUMPRODUCT(($N$4:$T$4=$V14)*($N14:$T14="Yes"))>0),"Complete","Action required"))} | AK14: =IF(COUNTA($A14:$C14,$E14:$Y14,$AA14)=0,"",IF(AND(LEN(TRIM($W14))>0,LEN($W14)<=1000),"Complete","Action required")) | AL14: =IF(COUNTA($A14:$C14,$E14:$Y14,$AA14)=0,"",IF(AND(ISNUMBER($X14),$X14>=0,$X14<=1440),"Complete","Action required")) | AM14: =IF(COUNTA($A14:$C14,$E14:$Y14,$AA14)=0,"",IF(OR($Y14="Yes",$Y14="No"),"Complete","Action required")) | AN14: =IF(COUNTA($A14:$C14,$E14:$Y14,$AA14)=0,"",IF($Y14="Yes",IF($Z14=TRUE,"Complete","Action required"),IF($Y14="No",IF($Z14<>TRUE,"Complete","Action required"),"Action required"))) | AO14: =IF(COUNTA($A14:$C14,$E14:$Y14,$AA14)=0,"",IF($Y14="Yes",IF(AND(ISNUMBER($AA14),$AA14>=0,$AA14<=1440),"Complete","Action required"),IF($Y14="No",IF($AA14="","Complete","Action required"),"Action required"))) | AP14: =IF(COUNTA($A14:$C14,$E14:$Y14,$AA14)=0,"",IF($AB14=TRUE,"Complete","Action required")) | AQ14: =IF(COUNTA($A14:$C14,$E14:$Y14,$AA14)=0,"",IF(COUNTIF($AC14:$AP14,"Action required")>0,"Action required",IF(COUNTIF($AC14:$AP14,"Pending")>0,"In progress","Ready to submit")))
D15: =IF(HorizontalReportTable[[#This Row],[MPS Name]]="","",IFERROR(_xlfn.XLOOKUP(HorizontalReportTable[[#This Row],[MPS Name]],'Service ID'!$C$2:$C$185,'Service ID'!$D$2:$D$185,""),"")) | Z15: FALSE | AB15: FALSE | AC15: =IF(COUNTA($A15:$C15,$E15:$Y15,$AA15)=0,"",IF(AND($A15<>"",$B15<>"",$C15<>"",$D15<>"",LEN(TRIM($E15))>0,LEN(TRIM($F15))>0,LEN(TRIM($G15))>0,LEN(TRIM($H15))>0,ISNUMBER($I15),$I15>=DATE(2027,1,1),COUNTIFS('Service List'!$A$2:$A$188,$A15,'Service List'!$B$2:$B$188,$B15,'Service List'!$C$2:$C$188,$C15,'Service List'!$D$2:$D$188,$D15)>0),"Complete","Action required")) | AD15: =IF(COUNTA($A15:$C15,$E15:$Y15,$AA15)=0,"",IF(OR($J15="Yes",$J15="No"),"Complete","Action required")) | AE15: =IF(COUNTA($A15:$C15,$E15:$Y15,$AA15)=0,"",IF($J15="","Action required",IF($J15="No",IF(ISNUMBER($K15),"Complete","Action required"),IF($J15="Yes",IF($K15="","Complete","Action required"),"Action required")))) | AF15: =IF(COUNTA($A15:$C15,$E15:$Y15,$AA15)=0,"",IF(OR($L15="Yes",$L15="No"),"Complete","Action required")) | AG15: =IF(COUNTA($A15:$C15,$E15:$Y15,$AA15)=0,"",IF($L15="","Action required",IF($L15="No",IF(ISNUMBER($M15),"Complete","Action required"),IF($L15="Yes",IF($M15="","Complete","Action required"),"Action required")))) | AH15: =IF(COUNTA($A15:$C15,$E15:$Y15,$AA15)=0,"",IF(AND(COUNTA($N15:$T15)=7,COUNTIF($N15:$T15,"Yes")>=1,COUNTIF($N15:$T15,"Yes")+COUNTIF($N15:$T15,"No")+COUNTIF($N15:$T15,"Don't know")=7),"Complete","Action required")) | AI15: =IF(COUNTA($A15:$C15,$E15:$Y15,$AA15)=0,"",IF($T15="","Action required",IF($T15="Yes",IF(AND(LEN(TRIM($U15))>0,LEN($U15)<=1000),"Complete","Action required"),IF(OR($T15="No",$T15="Don't know"),IF($U15="","Complete","Action required"),"Action required")))) | AJ15: {=IF(COUNTA($A15:$C15,$E15:$Y15,$AA15)=0,"",IF(AND(LEN(TRIM($V15))>0,SUMPRODUCT(($N$4:$T$4=$V15)*($N15:$T15="Yes"))>0),"Complete","Action required"))} | AK15: =IF(COUNTA($A15:$C15,$E15:$Y15,$AA15)=0,"",IF(AND(LEN(TRIM($W15))>0,LEN($W15)<=1000),"Complete","Action required")) | AL15: =IF(COUNTA($A15:$C15,$E15:$Y15,$AA15)=0,"",IF(AND(ISNUMBER($X15),$X15>=0,$X15<=1440),"Complete","Action required")) | AM15: =IF(COUNTA($A15:$C15,$E15:$Y15,$AA15)=0,"",IF(OR($Y15="Yes",$Y15="No"),"Complete","Action required")) | AN15: =IF(COUNTA($A15:$C15,$E15:$Y15,$AA15)=0,"",IF($Y15="Yes",IF($Z15=TRUE,"Complete","Action required"),IF($Y15="No",IF($Z15<>TRUE,"Complete","Action required"),"Action required"))) | AO15: =IF(COUNTA($A15:$C15,$E15:$Y15,$AA15)=0,"",IF($Y15="Yes",IF(AND(ISNUMBER($AA15),$AA15>=0,$AA15<=1440),"Complete","Action required"),IF($Y15="No",IF($AA15="","Complete","Action required"),"Action required"))) | AP15: =IF(COUNTA($A15:$C15,$E15:$Y15,$AA15)=0,"",IF($AB15=TRUE,"Complete","Action required")) | AQ15: =IF(COUNTA($A15:$C15,$E15:$Y15,$AA15)=0,"",IF(COUNTIF($AC15:$AP15,"Action required")>0,"Action required",IF(COUNTIF($AC15:$AP15,"Pending")>0,"In progress","Ready to submit")))
D16: =IF(HorizontalReportTable[[#This Row],[MPS Name]]="","",IFERROR(_xlfn.XLOOKUP(HorizontalReportTable[[#This Row],[MPS Name]],'Service ID'!$C$2:$C$185,'Service ID'!$D$2:$D$185,""),"")) | Z16: FALSE | AB16: FALSE | AC16: =IF(COUNTA($A16:$C16,$E16:$Y16,$AA16)=0,"",IF(AND($A16<>"",$B16<>"",$C16<>"",$D16<>"",LEN(TRIM($E16))>0,LEN(TRIM($F16))>0,LEN(TRIM($G16))>0,LEN(TRIM($H16))>0,ISNUMBER($I16),$I16>=DATE(2027,1,1),COUNTIFS('Service List'!$A$2:$A$188,$A16,'Service List'!$B$2:$B$188,$B16,'Service List'!$C$2:$C$188,$C16,'Service List'!$D$2:$D$188,$D16)>0),"Complete","Action required")) | AD16: =IF(COUNTA($A16:$C16,$E16:$Y16,$AA16)=0,"",IF(OR($J16="Yes",$J16="No"),"Complete","Action required")) | AE16: =IF(COUNTA($A16:$C16,$E16:$Y16,$AA16)=0,"",IF($J16="","Action required",IF($J16="No",IF(ISNUMBER($K16),"Complete","Action required"),IF($J16="Yes",IF($K16="","Complete","Action required"),"Action required")))) | AF16: =IF(COUNTA($A16:$C16,$E16:$Y16,$AA16)=0,"",IF(OR($L16="Yes",$L16="No"),"Complete","Action required")) | AG16: =IF(COUNTA($A16:$C16,$E16:$Y16,$AA16)=0,"",IF($L16="","Action required",IF($L16="No",IF(ISNUMBER($M16),"Complete","Action required"),IF($L16="Yes",IF($M16="","Complete","Action required"),"Action required")))) | AH16: =IF(COUNTA($A16:$C16,$E16:$Y16,$AA16)=0,"",IF(AND(COUNTA($N16:$T16)=7,COUNTIF($N16:$T16,"Yes")>=1,COUNTIF($N16:$T16,"Yes")+COUNTIF($N16:$T16,"No")+COUNTIF($N16:$T16,"Don't know")=7),"Complete","Action required")) | AI16: =IF(COUNTA($A16:$C16,$E16:$Y16,$AA16)=0,"",IF($T16="","Action required",IF($T16="Yes",IF(AND(LEN(TRIM($U16))>0,LEN($U16)<=1000),"Complete","Action required"),IF(OR($T16="No",$T16="Don't know"),IF($U16="","Complete","Action required"),"Action required")))) | AJ16: {=IF(COUNTA($A16:$C16,$E16:$Y16,$AA16)=0,"",IF(AND(LEN(TRIM($V16))>0,SUMPRODUCT(($N$4:$T$4=$V16)*($N16:$T16="Yes"))>0),"Complete","Action required"))} | AK16: =IF(COUNTA($A16:$C16,$E16:$Y16,$AA16)=0,"",IF(AND(LEN(TRIM($W16))>0,LEN($W16)<=1000),"Complete","Action required")) | AL16: =IF(COUNTA($A16:$C16,$E16:$Y16,$AA16)=0,"",IF(AND(ISNUMBER($X16),$X16>=0,$X16<=1440),"Complete","Action required")) | AM16: =IF(COUNTA($A16:$C16,$E16:$Y16,$AA16)=0,"",IF(OR($Y16="Yes",$Y16="No"),"Complete","Action required")) | AN16: =IF(COUNTA($A16:$C16,$E16:$Y16,$AA16)=0,"",IF($Y16="Yes",IF($Z16=TRUE,"Complete","Action required"),IF($Y16="No",IF($Z16<>TRUE,"Complete","Action required"),"Action required"))) | AO16: =IF(COUNTA($A16:$C16,$E16:$Y16,$AA16)=0,"",IF($Y16="Yes",IF(AND(ISNUMBER($AA16),$AA16>=0,$AA16<=1440),"Complete","Action required"),IF($Y16="No",IF($AA16="","Complete","Action required"),"Action required"))) | AP16: =IF(COUNTA($A16:$C16,$E16:$Y16,$AA16)=0,"",IF($AB16=TRUE,"Complete","Action required")) | AQ16: =IF(COUNTA($A16:$C16,$E16:$Y16,$AA16)=0,"",IF(COUNTIF($AC16:$AP16,"Action required")>0,"Action required",IF(COUNTIF($AC16:$AP16,"Pending")>0,"In progress","Ready to submit")))
... D131: =IF(HorizontalReportTable[[#This Row],[MPS Name]]="","",IFERROR(_xlfn.XLOOKUP(HorizontalReportTable[[#This Row],[MPS Name]],'Service ID'!$C$2:$C$185,'Service ID'!$D$2:$D$185,""),"")) | Z131: FALSE | AB131: FALSE | AC131: =IF(COUNTA($A131:$C131,$E131:$Y131,$AA131)=0,"",IF(AND($A131<>"",$B131<>"",$C131<>"",$D131<>"",LEN(TRIM($E131))>0,LEN(TRIM($F131))>0,LEN(TRIM($G131))>0,LEN(TRIM($H131))>0,ISNUMBER($I131),$I131>=DATE(2027,1,1),COUNTIFS('Service List'!$A$2:$A$188,$A131,'Service List'!$B$2:$B$188,$B131,'Service List'!$C$2:$C$188,$C131,'Service List'!$D$2:$D$188,$D131)>0),"Complete","Action required")) | AD131: =IF(COUNTA($A131:$C131,$E131:$Y131,$AA131)=0,"",IF(OR($J131="Yes",$J131="No"),"Complete","Action required")) | AE131: =IF(COUNTA($A131:$C131,$E131:$Y131,$AA131)=0,"",IF($J131="","Action required",IF($J131="No",IF(ISNUMBER($K131),"Complete","Action required"),IF($J131="Yes",IF($K131="","Complete","Action required"),"Action required")))) | AF131: =IF(COUNTA($A131:$C131,$E131:$Y131,$AA131)=0,"",IF(OR($L131="Yes",$L131="No"),"Complete","Action required")) | AG131: =IF(COUNTA($A131:$C131,$E131:$Y131,$AA131)=0,"",IF($L131="","Action required",IF($L131="No",IF(ISNUMBER($M131),"Complete","Action required"),IF($L131="Yes",IF($M131="","Complete","Action required"),"Action required")))) | AH131: =IF(COUNTA($A131:$C131,$E131:$Y131,$AA131)=0,"",IF(AND(COUNTA($N131:$T131)=7,COUNTIF($N131:$T131,"Yes")>=1,COUNTIF($N131:$T131,"Yes")+COUNTIF($N131:$T131,"No")+COUNTIF($N131:$T131,"Don't know")=7),"Complete","Action required")) | AI131: =IF(COUNTA($A131:$C131,$E131:$Y131,$AA131)=0,"",IF($T131="","Action required",IF($T131="Yes",IF(AND(LEN(TRIM($U131))>0,LEN($U131)<=1000),"Complete","Action required"),IF(OR($T131="No",$T131="Don't know"),IF($U131="","Complete","Action required"),"Action required")))) | AJ131: {=IF(COUNTA($A131:$C131,$E131:$Y131,$AA131)=0,"",IF(AND(LEN(TRIM($V131))>0,SUMPRODUCT(($N$4:$T$4=$V131)*($N131:$T131="Yes"))>0),"Complete","Action required"))} | AK131: =IF(COUNTA($A131:$C131,$E131:$Y131,$AA131)=0,"",IF(AND(LEN(TRIM($W131))>0,LEN($W131)<=1000),"Complete","Action required")) | AL131: =IF(COUNTA($A131:$C131,$E131:$Y131,$AA131)=0,"",IF(AND(ISNUMBER($X131),$X131>=0,$X131<=1440),"Complete","Action required")) | AM131: =IF(COUNTA($A131:$C131,$E131:$Y131,$AA131)=0,"",IF(OR($Y131="Yes",$Y131="No"),"Complete","Action required")) | AN131: =IF(COUNTA($A131:$C131,$E131:$Y131,$AA131)=0,"",IF($Y131="Yes",IF($Z131=TRUE,"Complete","Action required"),IF($Y131="No",IF($Z131<>TRUE,"Complete","Action required"),"Action required"))) | AO131: =IF(COUNTA($A131:$C131,$E131:$Y131,$AA131)=0,"",IF($Y131="Yes",IF(AND(ISNUMBER($AA131),$AA131>=0,$AA131<=1440),"Complete","Action required"),IF($Y131="No",IF($AA131="","Complete","Action required"),"Action required"))) | AP131: =IF(COUNTA($A131:$C131,$E131:$Y131,$AA131)=0,"",IF($AB131=TRUE,"Complete","Action required")) | AQ131: =IF(COUNTA($A131:$C131,$E131:$Y131,$AA131)=0,"",IF(COUNTIF($AC131:$AP131,"Action required")>0,"Action required",IF(COUNTIF($AC131:$AP131,"Pending")>0,"In progress","Ready to submit")))
D132: =IF(HorizontalReportTable[[#This Row],[MPS Name]]="","",IFERROR(_xlfn.XLOOKUP(HorizontalReportTable[[#This Row],[MPS Name]],'Service ID'!$C$2:$C$185,'Service ID'!$D$2:$D$185,""),"")) | Z132: FALSE | AC132: =IF(COUNTA($A132:$C132,$E132:$Y132,$AA132)=0,"",IF(AND($A132<>"",$B132<>"",$C132<>"",$D132<>"",LEN(TRIM($E132))>0,LEN(TRIM($F132))>0,LEN(TRIM($G132))>0,LEN(TRIM($H132))>0,ISNUMBER($I132),$I132>=DATE(2027,1,1),COUNTIFS('Service List'!$A$2:$A$188,$A132,'Service List'!$B$2:$B$188,$B132,'Service List'!$C$2:$C$188,$C132,'Service List'!$D$2:$D$188,$D132)>0),"Complete","Action required")) | AD132: =IF(COUNTA($A132:$C132,$E132:$Y132,$AA132)=0,"",IF(OR($J132="Yes",$J132="No"),"Complete","Action required")) | AE132: =IF(COUNTA($A132:$C132,$E132:$Y132,$AA132)=0,"",IF($J132="","Action required",IF($J132="No",IF(ISNUMBER($K132),"Complete","Action required"),IF($J132="Yes",IF($K132="","Complete","Action required"),"Action required")))) | AF132: =IF(COUNTA($A132:$C132,$E132:$Y132,$AA132)=0,"",IF(OR($L132="Yes",$L132="No"),"Complete","Action required")) | AG132: =IF(COUNTA($A132:$C132,$E132:$Y132,$AA132)=0,"",IF($L132="","Action required",IF($L132="No",IF(ISNUMBER($M132),"Complete","Action required"),IF($L132="Yes",IF($M132="","Complete","Action required"),"Action required")))) | AH132: =IF(COUNTA($A132:$C132,$E132:$Y132,$AA132)=0,"",IF(AND(COUNTA($N132:$T132)=7,COUNTIF($N132:$T132,"Yes")>=1,COUNTIF($N132:$T132,"Yes")+COUNTIF($N132:$T132,"No")+COUNTIF($N132:$T132,"Don't know")=7),"Complete","Action required")) | AI132: =IF(COUNTA($A132:$C132,$E132:$Y132,$AA132)=0,"",IF($T132="","Action required",IF($T132="Yes",IF(AND(LEN(TRIM($U132))>0,LEN($U132)<=1000),"Complete","Action required"),IF(OR($T132="No",$T132="Don't know"),IF($U132="","Complete","Action required"),"Action required")))) | AJ132: {=IF(COUNTA($A132:$C132,$E132:$Y132,$AA132)=0,"",IF(AND(LEN(TRIM($V132))>0,SUMPRODUCT(($N$4:$T$4=$V132)*($N132:$T132="Yes"))>0),"Complete","Action required"))} | AK132: =IF(COUNTA($A132:$C132,$E132:$Y132,$AA132)=0,"",IF(AND(LEN(TRIM($W132))>0,LEN($W132)<=1000),"Complete","Action required")) | AL132: =IF(COUNTA($A132:$C132,$E132:$Y132,$AA132)=0,"",IF(AND(ISNUMBER($X132),$X132>=0,$X132<=1440),"Complete","Action required")) | AM132: =IF(COUNTA($A132:$C132,$E132:$Y132,$AA132)=0,"",IF(OR($Y132="Yes",$Y132="No"),"Complete","Action required")) | AN132: =IF(COUNTA($A132:$C132,$E132:$Y132,$AA132)=0,"",IF($Y132="Yes",IF($Z132=TRUE,"Complete","Action required"),IF($Y132="No",IF($Z132<>TRUE,"Complete","Action required"),"Action required"))) | AO132: =IF(COUNTA($A132:$C132,$E132:$Y132,$AA132)=0,"",IF($Y132="Yes",IF(AND(ISNUMBER($AA132),$AA132>=0,$AA132<=1440),"Complete","Action required"),IF($Y132="No",IF($AA132="","Complete","Action required"),"Action required"))) | AP132: =IF(COUNTA($A132:$C132,$E132:$Y132,$AA132)=0,"",IF($AB132=TRUE,"Complete","Action required")) | AQ132: =IF(COUNTA($A132:$C132,$E132:$Y132,$AA132)=0,"",IF(COUNTIF($AC132:$AP132,"Action required")>0,"Action required",IF(COUNTIF($AC132:$AP132,"Pending")>0,"In progress","Ready to submit")))
D133: =IF(HorizontalReportTable[[#This Row],[MPS Name]]="","",IFERROR(_xlfn.XLOOKUP(HorizontalReportTable[[#This Row],[MPS Name]],'Service ID'!$C$2:$C$185,'Service ID'!$D$2:$D$185,""),"")) | Z133: FALSE | AB133: FALSE | AC133: =IF(COUNTA($A133:$C133,$E133:$Y133,$AA133)=0,"",IF(AND($A133<>"",$B133<>"",$C133<>"",$D133<>"",LEN(TRIM($E133))>0,LEN(TRIM($F133))>0,LEN(TRIM($G133))>0,LEN(TRIM($H133))>0,ISNUMBER($I133),$I133>=DATE(2027,1,1),COUNTIFS('Service List'!$A$2:$A$188,$A133,'Service List'!$B$2:$B$188,$B133,'Service List'!$C$2:$C$188,$C133,'Service List'!$D$2:$D$188,$D133)>0),"Complete","Action required")) | AD133: =IF(COUNTA($A133:$C133,$E133:$Y133,$AA133)=0,"",IF(OR($J133="Yes",$J133="No"),"Complete","Action required")) | AE133: =IF(COUNTA($A133:$C133,$E133:$Y133,$AA133)=0,"",IF($J133="","Action required",IF($J133="No",IF(ISNUMBER($K133),"Complete","Action required"),IF($J133="Yes",IF($K133="","Complete","Action required"),"Action required")))) | AF133: =IF(COUNTA($A133:$C133,$E133:$Y133,$AA133)=0,"",IF(OR($L133="Yes",$L133="No"),"Complete","Action required")) | AG133: =IF(COUNTA($A133:$C133,$E133:$Y133,$AA133)=0,"",IF($L133="","Action required",IF($L133="No",IF(ISNUMBER($M133),"Complete","Action required"),IF($L133="Yes",IF($M133="","Complete","Action required"),"Action required")))) | AH133: =IF(COUNTA($A133:$C133,$E133:$Y133,$AA133)=0,"",IF(AND(COUNTA($N133:$T133)=7,COUNTIF($N133:$T133,"Yes")>=1,COUNTIF($N133:$T133,"Yes")+COUNTIF($N133:$T133,"No")+COUNTIF($N133:$T133,"Don't know")=7),"Complete","Action required")) | AI133: =IF(COUNTA($A133:$C133,$E133:$Y133,$AA133)=0,"",IF($T133="","Action required",IF($T133="Yes",IF(AND(LEN(TRIM($U133))>0,LEN($U133)<=1000),"Complete","Action required"),IF(OR($T133="No",$T133="Don't know"),IF($U133="","Complete","Action required"),"Action required")))) | AJ133: {=IF(COUNTA($A133:$C133,$E133:$Y133,$AA133)=0,"",IF(AND(LEN(TRIM($V133))>0,SUMPRODUCT(($N$4:$T$4=$V133)*($N133:$T133="Yes"))>0),"Complete","Action required"))} | AK133: =IF(COUNTA($A133:$C133,$E133:$Y133,$AA133)=0,"",IF(AND(LEN(TRIM($W133))>0,LEN($W133)<=1000),"Complete","Action required")) | AL133: =IF(COUNTA($A133:$C133,$E133:$Y133,$AA133)=0,"",IF(AND(ISNUMBER($X133),$X133>=0,$X133<=1440),"Complete","Action required")) | AM133: =IF(COUNTA($A133:$C133,$E133:$Y133,$AA133)=0,"",IF(OR($Y133="Yes",$Y133="No"),"Complete","Action required")) | AN133: =IF(COUNTA($A133:$C133,$E133:$Y133,$AA133)=0,"",IF($Y133="Yes",IF($Z133=TRUE,"Complete","Action required"),IF($Y133="No",IF($Z133<>TRUE,"Complete","Action required"),"Action required"))) | AO133: =IF(COUNTA($A133:$C133,$E133:$Y133,$AA133)=0,"",IF($Y133="Yes",IF(AND(ISNUMBER($AA133),$AA133>=0,$AA133<=1440),"Complete","Action required"),IF($Y133="No",IF($AA133="","Complete","Action required"),"Action required"))) | AP133: =IF(COUNTA($A133:$C133,$E133:$Y133,$AA133)=0,"",IF($AB133=TRUE,"Complete","Action required")) | AQ133: =IF(COUNTA($A133:$C133,$E133:$Y133,$AA133)=0,"",IF(COUNTIF($AC133:$AP133,"Action required")>0,"Action required",IF(COUNTIF($AC133:$AP133,"Pending")>0,"In progress","Ready to submit")))
D134: =IF(HorizontalReportTable[[#This Row],[MPS Name]]="","",IFERROR(_xlfn.XLOOKUP(HorizontalReportTable[[#This Row],[MPS Name]],'Service ID'!$C$2:$C$185,'Service ID'!$D$2:$D$185,""),"")) | Z134: FALSE | AB134: FALSE | AC134: =IF(COUNTA($A134:$C134,$E134:$Y134,$AA134)=0,"",IF(AND($A134<>"",$B134<>"",$C134<>"",$D134<>"",LEN(TRIM($E134))>0,LEN(TRIM($F134))>0,LEN(TRIM($G134))>0,LEN(TRIM($H134))>0,ISNUMBER($I134),$I134>=DATE(2027,1,1),COUNTIFS('Service List'!$A$2:$A$188,$A134,'Service List'!$B$2:$B$188,$B134,'Service List'!$C$2:$C$188,$C134,'Service List'!$D$2:$D$188,$D134)>0),"Complete","Action required")) | AD134: =IF(COUNTA($A134:$C134,$E134:$Y134,$AA134)=0,"",IF(OR($J134="Yes",$J134="No"),"Complete","Action required")) | AE134: =IF(COUNTA($A134:$C134,$E134:$Y134,$AA134)=0,"",IF($J134="","Action required",IF($J134="No",IF(ISNUMBER($K134),"Complete","Action required"),IF($J134="Yes",IF($K134="","Complete","Action required"),"Action required")))) | AF134: =IF(COUNTA($A134:$C134,$E134:$Y134,$AA134)=0,"",IF(OR($L134="Yes",$L134="No"),"Complete","Action required")) | AG134: =IF(COUNTA($A134:$C134,$E134:$Y134,$AA134)=0,"",IF($L134="","Action required",IF($L134="No",IF(ISNUMBER($M134),"Complete","Action required"),IF($L134="Yes",IF($M134="","Complete","Action required"),"Action required")))) | AH134: =IF(COUNTA($A134:$C134,$E134:$Y134,$AA134)=0,"",IF(AND(COUNTA($N134:$T134)=7,COUNTIF($N134:$T134,"Yes")>=1,COUNTIF($N134:$T134,"Yes")+COUNTIF($N134:$T134,"No")+COUNTIF($N134:$T134,"Don't know")=7),"Complete","Action required")) | AI134: =IF(COUNTA($A134:$C134,$E134:$Y134,$AA134)=0,"",IF($T134="","Action required",IF($T134="Yes",IF(AND(LEN(TRIM($U134))>0,LEN($U134)<=1000),"Complete","Action required"),IF(OR($T134="No",$T134="Don't know"),IF($U134="","Complete","Action required"),"Action required")))) | AJ134: {=IF(COUNTA($A134:$C134,$E134:$Y134,$AA134)=0,"",IF(AND(LEN(TRIM($V134))>0,SUMPRODUCT(($N$4:$T$4=$V134)*($N134:$T134="Yes"))>0),"Complete","Action required"))} | AK134: =IF(COUNTA($A134:$C134,$E134:$Y134,$AA134)=0,"",IF(AND(LEN(TRIM($W134))>0,LEN($W134)<=1000),"Complete","Action required")) | AL134: =IF(COUNTA($A134:$C134,$E134:$Y134,$AA134)=0,"",IF(AND(ISNUMBER($X134),$X134>=0,$X134<=1440),"Complete","Action required")) | AM134: =IF(COUNTA($A134:$C134,$E134:$Y134,$AA134)=0,"",IF(OR($Y134="Yes",$Y134="No"),"Complete","Action required")) | AN134: =IF(COUNTA($A134:$C134,$E134:$Y134,$AA134)=0,"",IF($Y134="Yes",IF($Z134=TRUE,"Complete","Action required"),IF($Y134="No",IF($Z134<>TRUE,"Complete","Action required"),"Action required"))) | AO134: =IF(COUNTA($A134:$C134,$E134:$Y134,$AA134)=0,"",IF($Y134="Yes",IF(AND(ISNUMBER($AA134),$AA134>=0,$AA134<=1440),"Complete","Action required"),IF($Y134="No",IF($AA134="","Complete","Action required"),"Action required"))) | AP134: =IF(COUNTA($A134:$C134,$E134:$Y134,$AA134)=0,"",IF($AB134=TRUE,"Complete","Action required")) | AQ134: =IF(COUNTA($A134:$C134,$E134:$Y134,$AA134)=0,"",IF(COUNTIF($AC134:$AP134,"Action required")>0,"Action required",IF(COUNTIF($AC134:$AP134,"Pending")>0,"In progress","Ready to submit")))
