Workbook

Sheet How to Use
B1: PLEASE DO NOT EDIT OR ADJUST THE FORMAT OR FORMULA OF THIS TEMPLATE.
B2: MPSP Direct Care Minutes Targets Trial - Care Minutes Calculator Tool
B3: How to use this Care Minutes Calculator Tool
B4: This Tool is an illustrative, optional calculator to help Multi-Purpose Services (MPS) estimate direct care minutes from routine information such as payroll, rosters or timesheets.
B5: The sheet converts hours into minutes and calculates achieved minutes per resident per day for Total direct care and RN (RN + 10% of EN by default).
B6: Where used, the Calculator Tool reflects reporting for one Direct Care Trial Stage.
B7: Table 1
B8: At Cell B4 (green) Enter the correct State
B9: At Cell B5 (green) Enter the Registered Provider Name
B10: At Cell B6 (green) Enter the MPS Facility Name
B11: Enter the Start Date at Cell B7 for the reporting period.
B12: Enter the End Date at Cell B8 for the reporting period.
... B29: Multi-site reporting: 1. For each MPS, follow below steps: • Right-click on the Master- Calculator Tool tab at the bottom • Select Move or Copy Master-Calculator Tool tab • Tick Create a copy • Keep it in the same workbook • Rename the copied tab 2. Do not create a blank worksheet and copy/paste cells or use Paste Values. Keep the Lists worksheet in the same workbook.

Sheet Master - Calculator Tool
A1: Care Minutes Calculator Tool (Hours-based)
L2: {=_xlfn._xlws.SORT(_xlfn.UNIQUE(_xlfn._xlws.FILTER(Lists!$C$2:$C$184,Lists!$B$2:$B$184=$B$4,"")))} | M2: {=_xlfn._xlws.SORT(_xlfn.UNIQUE(_xlfn._xlws.FILTER(Lists!$D$2:$D$184,Lists!$C$2:$C$184=$B$5,"")))}
A3: Table 1
A4: State/Territory
A5: Provider | D5: Table 2
A6: Facility | D6: Average occupied residents
A7: Stage Start Date | D7: Total DCT target (mins/res/day)
A8: Stage End Date | D8: RN target (mins/res/day)
A9: Days in month | B9: =IF(OR(B7="",B8="",B8<B7),"",B8-B7+1) | D9: EN counted toward RN (credit factor) | E9: 0.1
A11: Notes | B11: Enter hours for the month. Use % attributable to Aged Care to exclude non-aged-care time, and % Direct Care to exclude non-direct-care activity. The sheet calculates indicative achieved minutes per resident per day for Total and RN targets.
A14: 3. Staff Hours Table
A15: ID | B15: Role | C15: Total hours (all streams) | D15: % attributable to Aged Care | E15: Aged care hours | F15: % Direct Care | G15: Direct care hours | H15: Direct care minutes | I15: RN-credit minutes | J15: Notes (optional)
A16: 1 | C16: 0 | E16: =IF(OR(COUNTIF(Lists!$A$2:$A$6,B16)=0,NOT(ISNUMBER(C16)),C16<0,C16>1000000,NOT(ISNUMBER(D16)),D16<0,D16>1),0,C16*D16) -> 0 | G16: =IF(OR(E16=0,NOT(ISNUMBER(F16)),F16<0,F16>1),0,E16*F16) -> 0 | H16: =G16*60 -> 0 | I16: =IF(B16="RN",H16,IF(B16="EN",H16*$E$9,0)) -> 0
A17: 2 | C17: 0 | E17: =IF(OR(COUNTIF(Lists!$A$2:$A$6,B17)=0,NOT(ISNUMBER(C17)),C17<0,C17>1000000,NOT(ISNUMBER(D17)),D17<0,D17>1),0,C17*D17) -> 0 | G17: =IF(OR(E17=0,NOT(ISNUMBER(F17)),F17<0,F17>1),0,E17*F17) -> 0 | H17: =G17*60 -> 0 | I17: =IF(B17="RN",H17,IF(B17="EN",H17*$E$9,0)) -> 0
A18: 3 | C18: 0 | E18: =IF(OR(COUNTIF(Lists!$A$2:$A$6,B18)=0,NOT(ISNUMBER(C18)),C18<0,C18>1000000,NOT(ISNUMBER(D18)),D18<0,D18>1),0,C18*D18) -> 0 | G18: =IF(OR(E18=0,NOT(ISNUMBER(F18)),F18<0,F18>1),0,E18*F18) -> 0 | H18: =G18*60 -> 0 | I18: =IF(B18="RN",H18,IF(B18="EN",H18*$E$9,0)) -> 0
A19: 4 | C19: 0 | E19: =IF(OR(COUNTIF(Lists!$A$2:$A$6,B19)=0,NOT(ISNUMBER(C19)),C19<0,C19>1000000,NOT(ISNUMBER(D19)),D19<0,D19>1),0,C19*D19) -> 0 | G19: =IF(OR(E19=0,NOT(ISNUMBER(F19)),F19<0,F19>1),0,E19*F19) -> 0 | H19: =G19*60 -> 0 | I19: =IF(B19="RN",H19,IF(B19="EN",H19*$E$9,0)) -> 0
A20: 5 | C20: 0 | E20: =IF(OR(COUNTIF(Lists!$A$2:$A$6,B20)=0,NOT(ISNUMBER(C20)),C20<0,C20>1000000,NOT(ISNUMBER(D20)),D20<0,D20>1),0,C20*D20) -> 0 | G20: =IF(OR(E20=0,NOT(ISNUMBER(F20)),F20<0,F20>1),0,E20*F20) -> 0 | H20: =G20*60 -> 0 | I20: =IF(B20="RN",H20,IF(B20="EN",H20*$E$9,0)) -> 0
A21: 6 | C21: 0 | E21: =IF(OR(COUNTIF(Lists!$A$2:$A$6,B21)=0,NOT(ISNUMBER(C21)),C21<0,C21>1000000,NOT(ISNUMBER(D21)),D21<0,D21>1),0,C21*D21) -> 0 | G21: =IF(OR(E21=0,NOT(ISNUMBER(F21)),F21<0,F21>1),0,E21*F21) -> 0 | H21: =G21*60 -> 0 | I21: =IF(B21="RN",H21,IF(B21="EN",H21*$E$9,0)) -> 0
A22: 7 | C22: 0 | E22: =IF(OR(COUNTIF(Lists!$A$2:$A$6,B22)=0,NOT(ISNUMBER(C22)),C22<0,C22>1000000,NOT(ISNUMBER(D22)),D22<0,D22>1),0,C22*D22) -> 0 | G22: =IF(OR(E22=0,NOT(ISNUMBER(F22)),F22<0,F22>1),0,E22*F22) -> 0 | H22: =G22*60 -> 0 | I22: =IF(B22="RN",H22,IF(B22="EN",H22*$E$9,0)) -> 0
A23: 8 | C23: 0 | E23: =IF(OR(COUNTIF(Lists!$A$2:$A$6,B23)=0,NOT(ISNUMBER(C23)),C23<0,C23>1000000,NOT(ISNUMBER(D23)),D23<0,D23>1),0,C23*D23) -> 0 | G23: =IF(OR(E23=0,NOT(ISNUMBER(F23)),F23<0,F23>1),0,E23*F23) -> 0 | H23: =G23*60 -> 0 | I23: =IF(B23="RN",H23,IF(B23="EN",H23*$E$9,0)) -> 0
A24: 9 | C24: 0 | E24: =IF(OR(COUNTIF(Lists!$A$2:$A$6,B24)=0,NOT(ISNUMBER(C24)),C24<0,C24>1000000,NOT(ISNUMBER(D24)),D24<0,D24>1),0,C24*D24) -> 0 | G24: =IF(OR(E24=0,NOT(ISNUMBER(F24)),F24<0,F24>1),0,E24*F24) -> 0 | H24: =G24*60 -> 0 | I24: =IF(B24="RN",H24,IF(B24="EN",H24*$E$9,0)) -> 0
A25: 10 | C25: 0 | E25: =IF(OR(COUNTIF(Lists!$A$2:$A$6,B25)=0,NOT(ISNUMBER(C25)),C25<0,C25>1000000,NOT(ISNUMBER(D25)),D25<0,D25>1),0,C25*D25) -> 0 | G25: =IF(OR(E25=0,NOT(ISNUMBER(F25)),F25<0,F25>1),0,E25*F25) -> 0 | H25: =G25*60 -> 0 | I25: =IF(B25="RN",H25,IF(B25="EN",H25*$E$9,0)) -> 0
A26: 11 | C26: 0 | E26: =IF(OR(COUNTIF(Lists!$A$2:$A$6,B26)=0,NOT(ISNUMBER(C26)),C26<0,C26>1000000,NOT(ISNUMBER(D26)),D26<0,D26>1),0,C26*D26) -> 0 | G26: =IF(OR(E26=0,NOT(ISNUMBER(F26)),F26<0,F26>1),0,E26*F26) -> 0 | H26: =G26*60 -> 0 | I26: =IF(B26="RN",H26,IF(B26="EN",H26*$E$9,0)) -> 0
A27: 11 | C27: 0 | E27: =IF(OR(COUNTIF(Lists!$A$2:$A$6,B27)=0,NOT(ISNUMBER(C27)),C27<0,C27>1000000,NOT(ISNUMBER(D27)),D27<0,D27>1),0,C27*D27) -> 0 | G27: =IF(OR(E27=0,NOT(ISNUMBER(F27)),F27<0,F27>1),0,E27*F27) -> 0 | H27: =G27*60 -> 0 | I27: =IF(B27="RN",H27,IF(B27="EN",H27*$E$9,0)) -> 0
... A33: 17 | C33: 0 | E33: =IF(OR(COUNTIF(Lists!$A$2:$A$6,B33)=0,NOT(ISNUMBER(C33)),C33<0,C33>1000000,NOT(ISNUMBER(D33)),D33<0,D33>1),0,C33*D33) -> 0 | G33: =IF(OR(E33=0,NOT(ISNUMBER(F33)),F33<0,F33>1),0,E33*F33) -> 0 | H33: =G33*60 -> 0 | I33: =IF(B33="RN",H33,IF(B33="EN",H33*$E$9,0)) -> 0
A34: 18 | E34: =IF(OR(COUNTIF(Lists!$A$2:$A$6,B34)=0,NOT(ISNUMBER(C34)),C34<0,C34>1000000,NOT(ISNUMBER(D34)),D34<0,D34>1),0,C34*D34) -> 0 | G34: =IF(OR(E34=0,NOT(ISNUMBER(F34)),F34<0,F34>1),0,E34*F34) -> 0 | H34: =G34*60 -> 0 | I34: =IF(B34="RN",H34,IF(B34="EN",H34*$E$9,0)) -> 0
A35: 19 | E35: =IF(OR(COUNTIF(Lists!$A$2:$A$6,B35)=0,NOT(ISNUMBER(C35)),C35<0,C35>1000000,NOT(ISNUMBER(D35)),D35<0,D35>1),0,C35*D35) -> 0 | G35: =IF(OR(E35=0,NOT(ISNUMBER(F35)),F35<0,F35>1),0,E35*F35) -> 0 | H35: =G35*60 -> 0 | I35: =IF(B35="RN",H35,IF(B35="EN",H35*$E$9,0)) -> 0
A36: 20 | E36: =IF(OR(COUNTIF(Lists!$A$2:$A$6,B36)=0,NOT(ISNUMBER(C36)),C36<0,C36>1000000,NOT(ISNUMBER(D36)),D36<0,D36>1),0,C36*D36) -> 0 | G36: =IF(OR(E36=0,NOT(ISNUMBER(F36)),F36<0,F36>1),0,E36*F36) -> 0 | H36: =G36*60 -> 0 | I36: =IF(B36="RN",H36,IF(B36="EN",H36*$E$9,0)) -> 0
A37: 21 | E37: =IF(OR(COUNTIF(Lists!$A$2:$A$6,B37)=0,NOT(ISNUMBER(C37)),C37<0,C37>1000000,NOT(ISNUMBER(D37)),D37<0,D37>1),0,C37*D37) -> 0 | G37: =IF(OR(E37=0,NOT(ISNUMBER(F37)),F37<0,F37>1),0,E37*F37) -> 0 | H37: =G37*60 -> 0 | I37: =IF(B37="RN",H37,IF(B37="EN",H37*$E$9,0)) -> 0
A38: 22 | E38: =IF(OR(COUNTIF(Lists!$A$2:$A$6,B38)=0,NOT(ISNUMBER(C38)),C38<0,C38>1000000,NOT(ISNUMBER(D38)),D38<0,D38>1),0,C38*D38) -> 0 | G38: =IF(OR(E38=0,NOT(ISNUMBER(F38)),F38<0,F38>1),0,E38*F38) -> 0 | H38: =G38*60 -> 0 | I38: =IF(B38="RN",H38,IF(B38="EN",H38*$E$9,0)) -> 0
A39: 23 | E39: =IF(OR(COUNTIF(Lists!$A$2:$A$6,B39)=0,NOT(ISNUMBER(C39)),C39<0,C39>1000000,NOT(ISNUMBER(D39)),D39<0,D39>1),0,C39*D39) -> 0 | G39: =IF(OR(E39=0,NOT(ISNUMBER(F39)),F39<0,F39>1),0,E39*F39) -> 0 | H39: =G39*60 -> 0 | I39: =IF(B39="RN",H39,IF(B39="EN",H39*$E$9,0)) -> 0
A40: 24 | E40: =IF(OR(COUNTIF(Lists!$A$2:$A$6,B40)=0,NOT(ISNUMBER(C40)),C40<0,C40>1000000,NOT(ISNUMBER(D40)),D40<0,D40>1),0,C40*D40) -> 0 | G40: =IF(OR(E40=0,NOT(ISNUMBER(F40)),F40<0,F40>1),0,E40*F40) -> 0 | H40: =G40*60 -> 0 | I40: =IF(B40="RN",H40,IF(B40="EN",H40*$E$9,0)) -> 0
A41: 25 | E41: =IF(OR(COUNTIF(Lists!$A$2:$A$6,B41)=0,NOT(ISNUMBER(C41)),C41<0,C41>1000000,NOT(ISNUMBER(D41)),D41<0,D41>1),0,C41*D41) -> 0 | G41: =IF(OR(E41=0,NOT(ISNUMBER(F41)),F41<0,F41>1),0,E41*F41) -> 0 | H41: =G41*60 -> 0 | I41: =IF(B41="RN",H41,IF(B41="EN",H41*$E$9,0)) -> 0
A42: 26 | E42: =IF(OR(COUNTIF(Lists!$A$2:$A$6,B42)=0,NOT(ISNUMBER(C42)),C42<0,C42>1000000,NOT(ISNUMBER(D42)),D42<0,D42>1),0,C42*D42) -> 0 | G42: =IF(OR(E42=0,NOT(ISNUMBER(F42)),F42<0,F42>1),0,E42*F42) -> 0 | H42: =G42*60 -> 0 | I42: =IF(B42="RN",H42,IF(B42="EN",H42*$E$9,0)) -> 0
A43: 27 | E43: =IF(OR(COUNTIF(Lists!$A$2:$A$6,B43)=0,NOT(ISNUMBER(C43)),C43<0,C43>1000000,NOT(ISNUMBER(D43)),D43<0,D43>1),0,C43*D43) -> 0 | G43: =IF(OR(E43=0,NOT(ISNUMBER(F43)),F43<0,F43>1),0,E43*F43) -> 0 | H43: =G43*60 -> 0 | I43: =IF(B43="RN",H43,IF(B43="EN",H43*$E$9,0)) -> 0
A44: 28 | E44: =IF(OR(COUNTIF(Lists!$A$2:$A$6,B44)=0,NOT(ISNUMBER(C44)),C44<0,C44>1000000,NOT(ISNUMBER(D44)),D44<0,D44>1),0,C44*D44) -> 0 | G44: =IF(OR(E44=0,NOT(ISNUMBER(F44)),F44<0,F44>1),0,E44*F44) -> 0 | H44: =G44*60 -> 0 | I44: =IF(B44="RN",H44,IF(B44="EN",H44*$E$9,0)) -> 0
A45: 29 | E45: =IF(OR(COUNTIF(Lists!$A$2:$A$6,B45)=0,NOT(ISNUMBER(C45)),C45<0,C45>1000000,NOT(ISNUMBER(D45)),D45<0,D45>1),0,C45*D45) -> 0 | G45: =IF(OR(E45=0,NOT(ISNUMBER(F45)),F45<0,F45>1),0,E45*F45) -> 0 | H45: =G45*60 -> 0 | I45: =IF(B45="RN",H45,IF(B45="EN",H45*$E$9,0)) -> 0
... A136: 120 | E136: =IF(OR(COUNTIF(Lists!$A$2:$A$6,B136)=0,NOT(ISNUMBER(C136)),C136<0,C136>1000000,NOT(ISNUMBER(D136)),D136<0,D136>1),0,C136*D136) -> 0 | G136: =IF(OR(E136=0,NOT(ISNUMBER(F136)),F136<0,F136>1),0,E136*F136) -> 0 | H136: =G136*60 -> 0 | I136: =IF(B136="RN",H136,IF(B136="EN",H136*$E$9,0)) -> 0
A138: 4. Summary Table
A139: Total direct care minutes (all eligible roles) | C139: =SUM(H16:H136) -> 0
A140: Total RN-credit minutes (RN + EN credit) | C140: =SUM(I16:I136) -> 0
A141: Required total minutes for the reporting period | C141: =E7*E6*B9 -> #VALUE!
A142: Required RN minutes for the reporting period | C142: =E8*E6*B9 -> #VALUE!
A143: Achieved total minutes / resident / day | C143: =IF(E6>0, C139 / ($E$6 * $B$9), 0) -> 0
A144: Achieved RN minutes / resident / day | C144: =IF(E6>0, C140 / ($E$6 * $B$9), 0) -> 0
A145: Status vs total target | C145: =IF(C143<200,"Below",IF(C143>=200,"Met")) -> Below
A146: Status vs RN target | C146: =IF(C144<40,"Below",IF(C144>=40,"Met")) -> Below
A148: 5. Role totals - Aged Care (optional check)
A149: Role | B149: Aged care hours | C149: Direct care minutes | D149: RN-credit minutes
A150: RN | B150: =SUMIFS(E16:E136,B16:B136,A150) -> 0 | C150: =SUMIFS(H16:H136,B16:B136,A150) -> 0 | D150: =SUMIFS(I16:I136,B16:B136,A150) -> 0
A151: EN | B151: =SUMIFS(E16:E136,B16:B136,A151) -> 0 | C151: =SUMIFS(H16:H136,B16:B136,A151) -> 0 | D151: =SUMIFS(I16:I136,B16:B136,A151) -> 0
A152: PCW | B152: =SUMIFS(E16:E136,B16:B136,A152) -> 0 | C152: =SUMIFS(H16:H136,B16:B136,A152) -> 0 | D152: =SUMIFS(I16:I136,B16:B136,A152) -> 0
A153: AIN | B153: =SUMIFS(E16:E136,B16:B136,A153) -> 0 | C153: =SUMIFS(H16:H136,B16:B136,A153) -> 0 | D153: =SUMIFS(I16:I136,B16:B136,A153) -> 0
A154: Student Nurse | B154: =SUMIFS(E16:E136,B16:B136,A154) -> 0 | C154: =SUMIFS(H16:H136,B16:B136,A154) -> 0 | D154: =SUMIFS(I16:I136,B16:B136,A154) -> 0

Sheet Lists
A1: Role | B1: State | C1: Provider | D1: Service | E1: State select List | F1: Service select list
A2: RN | B2: NFI | C2: Norfolk Island Health and Residential Aged Care Service | D2: Norfolk Island Multi-Purpose Service | E2: {=_xlfn._xlws.FILTER(C2:C184,B2:B184=#REF!)} -> #REF! | F2: {=_xlfn._xlws.FILTER(D2:D184,C2:C184=#REF!)} -> #REF!
A3: EN | B3: NSW | C3: Far West Local Health District | D3: Balranald Multi-Purpose Service
A4: PCW | B4: NSW | C4: Far West Local Health District | D4: Wilcannia Multi-Purpose Service
A5: AIN | B5: NSW | C5: Hunter New England Local Health District | D5: Barraba Multi-Purpose Service
A6: Student Nurse | B6: NSW | C6: Hunter New England Local Health District | D6: Bingara Multi-Purpose Service
B7: NSW | C7: Hunter New England Local Health District | D7: Boggabri Multi-Purpose Service
B8: NSW | C8: Hunter New England Local Health District | D8: Denman Multi-Purpose Service
B9: NSW | C9: Hunter New England Local Health District | D9: Emmaville Multi-Purpose Service
B10: NSW | C10: Hunter New England Local Health District | D10: Guyra Multi-Purpose Service
B11: NSW | C11: Hunter New England Local Health District | D11: Manilla Multi-Purpose Service
B12: NSW | C12: Hunter New England Local Health District | D12: Merriwa Multi-Purpose Service
B13: NSW | C13: Hunter New England Local Health District | D13: Tingha Multi-Purpose Service
B14: NSW | C14: Hunter New England Local Health District | D14: Walcha Multi-Purpose Service
B15: NSW | C15: Hunter New England Local Health District | D15: Warialda Multi-Purpose Service
B16: NSW | C16: Hunter New England Local Health District | D16: Werris Creek Multi-Purpose Service
B17: NSW | C17: Mid North Coast Local Health District | D17: Dorrigo Multi-Purpose Service
B18: NSW | C18: Murrumbidgee Local Health District | D18: Batlow Multi-Purpose Service
... B184: WA | C184: WA Country Health Service | D184: York Multi-Purpose Service
